BEGIN:VCALENDAR
VERSION:2.0
PRODID:-//ChamberMaster//Event Calendar 2.0//EN
METHOD:PUBLISH
X-PUBLISHED-TTL:P3D
REFRESH-INTERVAL:P3D
CALSCALE:GREGORIAN
BEGIN:VEVENT
DTSTART:20220221T150000Z
DTEND:20220221T170000Z
X-MICROSOFT-CDO-ALLDAYEVENT:FALSE
SUMMARY:NEW! Entrepreneurship Introduction
DESCRIPTION:Would you like to be your own boss? Have you ever dreamed of starting your own business? Don't know what to do about your great business idea? If you have ever thought about these situations then you need our entrepreneurship workshop. Let our Entrepreneurship workshop help you achieve your dreams. Being an entrepreneur can be full of risks. These risks are minimized through drafting a business plan\, knowing your competition\, and successful marketing. All these and more can be found in our Entrepreneurship workshop.
X-ALT-DESC;FMTTYPE=text/html:Would you like to be your own boss? Have you ever dreamed of starting your own business? Don&rsquo\;t know what to do about your great business idea? If you have ever thought about these situations then you need our entrepreneurship workshop. Let our Entrepreneurship workshop help you achieve your dreams. Being an entrepreneur can be full of risks. These risks are minimized through drafting a business plan\, knowing your competition\, and successful marketing. All these and more can be found in our Entrepreneurship workshop.
LOCATION:Live Zoom
UID:e.2066.4185
SEQUENCE:3
DTSTAMP:20260423T015255Z
URL:https://dev.chainolakeschamber.com/events/details/new-entrepreneurship-introduction-4185
END:VEVENT

END:VCALENDAR
