BEGIN:VCALENDAR
VERSION:2.0
PRODID:-//ChamberMaster//Event Calendar 2.0//EN
METHOD:PUBLISH
X-PUBLISHED-TTL:P3D
REFRESH-INTERVAL:P3D
CALSCALE:GREGORIAN
BEGIN:VEVENT
DTSTART:20230813T160000Z
DTEND:20230813T200000Z
X-MICROSOFT-CDO-ALLDAYEVENT:FALSE
SUMMARY:New Date: Summer Luau at Perricone Garden Center!
DESCRIPTION:Change of Date due to incoming weather! Join us for our Summer Luau Event Sunday August 13th for great sales\, free food and drink and summer fun!
X-ALT-DESC;FMTTYPE=text/html:<span style="color: rgb(5\, 5\, 5)\; font-family: &quot\;Segoe UI Historic&quot\;\, &quot\;Segoe UI&quot\;\, Helvetica\, Arial\, sans-serif\; font-size: 15px\; white-space-collapse: preserve\;">Change of Date due to incoming weather! Join us for our Summer Luau Event Sunday August 13th for great sales\, free food and drink and summer fun!</span>
LOCATION:Perricone Nursery and Garden Center 31600 Fisher Road Volo IL
UID:e.2066.5281
SEQUENCE:3
DTSTAMP:20260419T121452Z
URL:https://dev.chainolakeschamber.com/events/details/new-date-summer-luau-at-perricone-garden-center-5281
END:VEVENT

END:VCALENDAR
