BEGIN:VCALENDAR
VERSION:2.0
PRODID:-//ChamberMaster//Event Calendar 2.0//EN
METHOD:PUBLISH
X-PUBLISHED-TTL:P3D
REFRESH-INTERVAL:P3D
CALSCALE:GREGORIAN
BEGIN:VEVENT
DTSTART:20230309T173000Z
DTEND:20230309T190000Z
X-MICROSOFT-CDO-ALLDAYEVENT:FALSE
SUMMARY:NEW DATE - Lunch 'N Learn - DISC Personality Assessment
DESCRIPTION:NEW DATE!  Take the DiSC personality Assessment will learn how the it will boost your professional career! Once you get your results\, you can raise self-awareness\, improve teamwork\, make conflict more productive\, develop stronger sales skills\, manage more effectively and train without judgment!
X-ALT-DESC;FMTTYPE=text/html:<font color="#202124" face="Roboto\, arial\, sans-serif"><span style="font-size: 16px\;">NEW DATE!&nbsp\; Take the DiSC personality Assessment will learn how the it will boost your professional career! Once you get your results\, you can raise self-awareness\, improve teamwork\, make conflict more productive\, develop stronger sales skills\, manage more effectively and train without judgment!</span></font>
LOCATION:Volo Village Hall 500 S. Fish Lake Road Volo\, IL
UID:e.2066.4935
SEQUENCE:3
DTSTAMP:20260419T223124Z
URL:https://dev.chainolakeschamber.com/events/details/new-date-lunch-n-learn-disc-personality-assessment-4935
END:VEVENT

END:VCALENDAR
