BEGIN:VCALENDAR
VERSION:2.0
PRODID:-//ChamberMaster//Event Calendar 2.0//EN
METHOD:PUBLISH
X-PUBLISHED-TTL:P3D
REFRESH-INTERVAL:P3D
CALSCALE:GREGORIAN
BEGIN:VEVENT
DTSTART:20220329T140000Z
DTEND:20220329T144500Z
X-MICROSOFT-CDO-ALLDAYEVENT:FALSE
SUMMARY:NEW! Culture Eats Strategy\, So What Are You Serving?
DESCRIPTION:Culture is a hot topic for business this year. It encompasses a whole host of elements crucial to business success. This session hones in on a few key strategic areas' businesses need to address in order to create and maintain a workplace people want to be a part of.
X-ALT-DESC;FMTTYPE=text/html:Culture is a hot topic for business this year. It encompasses a whole host of elements crucial to business success. This session hones in on a few key strategic areas&rsquo\; businesses need to address in order to create and maintain a workplace people want to be a part of.
LOCATION:Live Zoom
UID:e.2066.4206
SEQUENCE:3
DTSTAMP:20260422T224153Z
URL:https://dev.chainolakeschamber.com/events/details/new-culture-eats-strategy-so-what-are-you-serving-4206
END:VEVENT

END:VCALENDAR
