BEGIN:VCALENDAR
VERSION:2.0
PRODID:-//ChamberMaster//Event Calendar 2.0//EN
METHOD:PUBLISH
X-PUBLISHED-TTL:P3D
REFRESH-INTERVAL:P3D
CALSCALE:GREGORIAN
BEGIN:VEVENT
DTSTART:20230309T150000Z
DTEND:20230309T160000Z
X-MICROSOFT-CDO-ALLDAYEVENT:FALSE
SUMMARY:NEW Building a $1 Million Dollar Plus Business
DESCRIPTION:Lessons from a Veteran Entrepreneur Fast forward 20 years. What will you know about business then that you wish you had known when you began? In this webinar\, Maribeth Vander Weele reflects on 20 years in a small business her journey to find the right business model\, to balance growth with infrastructure\, to build the right team\, and to adapt to new realities of a rapidly changing business environment. After struggling to move beyond a small but successful "lifestyle" business a business that revolves around the owner Maribeth and her team finally captured the formula to grow. Set to quintuple her company in size since 2019\, she shares her life lessons in better business decision making. Discussion and Q&A will follow.
X-ALT-DESC;FMTTYPE=text/html:Lessons from a Veteran Entrepreneur Fast forward 20 years. What will you know about business then that you wish you had known when you began? In this webinar\, Maribeth Vander Weele reflects on 20 years in a small business&mdash\;her journey to find the right business model\, to balance growth with infrastructure\, to build the right team\, and to adapt to new realities of a rapidly changing business environment. After struggling to move beyond a small but successful &ldquo\;lifestyle&rdquo\; business&mdash\;a business that revolves around the owner&mdash\;Maribeth and her team finally captured the formula to grow. Set to quintuple her company in size since 2019\, she shares her life lessons in better business decision making. Discussion and Q&amp\;A will follow.
LOCATION:Live Zoom
UID:e.2066.4985
SEQUENCE:3
DTSTAMP:20260419T203615Z
URL:https://dev.chainolakeschamber.com/events/details/new-building-a-1-million-dollar-plus-business-4985
END:VEVENT

END:VCALENDAR
