BEGIN:VCALENDAR
VERSION:2.0
PRODID:-//ChamberMaster//Event Calendar 2.0//EN
METHOD:PUBLISH
X-PUBLISHED-TTL:P3D
REFRESH-INTERVAL:P3D
CALSCALE:GREGORIAN
BEGIN:VEVENT
DTSTART:20220322T140000Z
DTEND:20220322T144500Z
X-MICROSOFT-CDO-ALLDAYEVENT:FALSE
SUMMARY:NEW! Boosting Business by Boosting Benefits
DESCRIPTION:Benefits in business can - and should - mean much more than strictly compensation and health care coverage. Employees are seeking workplaces that value more than the bottom line\, and offer additional ways of supporting holistic well-being of workers. Offering more than a paycheck\, medical and dental goes a long way to making a company more attractive.
X-ALT-DESC;FMTTYPE=text/html:Benefits in business can - and should - mean much more than strictly compensation and health care coverage. Employees are seeking workplaces that value more than the bottom line\, and offer additional ways of supporting holistic well-being of workers. Offering more than a paycheck\, medical and dental goes a long way to making a company more attractive.
LOCATION:Live Zoom
UID:e.2066.4204
SEQUENCE:3
DTSTAMP:20260422T223703Z
URL:https://dev.chainolakeschamber.com/events/details/new-boosting-business-by-boosting-benefits-4204
END:VEVENT

END:VCALENDAR
