BEGIN:VCALENDAR
VERSION:2.0
PRODID:-//ChamberMaster//Event Calendar 2.0//EN
METHOD:PUBLISH
X-PUBLISHED-TTL:P3D
REFRESH-INTERVAL:P3D
CALSCALE:GREGORIAN
BEGIN:VEVENT
DTSTART:20220426T140000Z
DTEND:20220426T144500Z
X-MICROSOFT-CDO-ALLDAYEVENT:FALSE
SUMMARY:NEW! Be a Talent Magnet: Ways to Post\, Interview and Hire for Top Talent
DESCRIPTION:"Be slow to hire and quick to fire" may seem crazy in today's super-hot labor market\, but the principle holds true. It's critical to know how to attract the right candidates and then assess them for the best fit with an organization before taking the plunge together in a working relationship. It's a buyer's market out in 2022 - candidates have the upper hand in many cases - and smart business leaders need to ensure they're taking all the steps possible to avoid costly mistakes in searching for\, selecting and hiring employees.
X-ALT-DESC;FMTTYPE=text/html:&quot\;Be slow to hire and quick to fire&quot\; may seem crazy in today&#39\;s super-hot labor market\, but the principle holds true. It&#39\;s critical to know how to attract the right candidates and then assess them for the best fit with an organization before taking the plunge together in a working relationship. It&#39\;s a buyer&#39\;s market out in 2022 - candidates have the upper hand in many cases - and smart business leaders need to ensure they&#39\;re taking all the steps possible to avoid costly mistakes in searching for\, selecting and hiring employees.
LOCATION:Live Zoom
UID:e.2066.4211
SEQUENCE:3
DTSTAMP:20260422T224059Z
URL:https://dev.chainolakeschamber.com/events/details/new-be-a-talent-magnet-ways-to-post-interview-and-hire-for-top-talent-4211
END:VEVENT

END:VCALENDAR
