BEGIN:VCALENDAR
VERSION:2.0
PRODID:-//ChamberMaster//Event Calendar 2.0//EN
METHOD:PUBLISH
X-PUBLISHED-TTL:P3D
REFRESH-INTERVAL:P3D
CALSCALE:GREGORIAN
BEGIN:VEVENT
DTSTART:20220419T140000Z
DTEND:20220419T144500Z
X-MICROSOFT-CDO-ALLDAYEVENT:FALSE
SUMMARY:NEW! Balancing Act: How to Be flexible Without Breaking
DESCRIPTION:The ability to have flexibility and balance between work and personal life remains highly desirable\; no surprise as the pandemic continues and many workers face a number of challenges to the new ways of doing business. Explore how you can get creative in being more flexible and balanced\, and how to make it work as more workers demand this option.
X-ALT-DESC;FMTTYPE=text/html:The ability to have flexibility and balance between work and personal life remains highly desirable\; no surprise as the pandemic continues and many workers face a number of challenges to the new ways of doing business. Explore how you can get creative in being more flexible and balanced\, and how to make it work as more workers demand this option.
LOCATION:Live Zoom
UID:e.2066.4210
SEQUENCE:3
DTSTAMP:20260422T204718Z
URL:https://dev.chainolakeschamber.com/events/details/new-balancing-act-how-to-be-flexible-without-breaking-4210
END:VEVENT

END:VCALENDAR
