BEGIN:VCALENDAR
VERSION:2.0
PRODID:-//ChamberMaster//Event Calendar 2.0//EN
METHOD:PUBLISH
X-PUBLISHED-TTL:P3D
REFRESH-INTERVAL:P3D
CALSCALE:GREGORIAN
BEGIN:VEVENT
DTSTART:20180627T131500Z
DTEND:20180627T141500Z
X-MICROSOFT-CDO-ALLDAYEVENT:FALSE
SUMMARY:Business Buzz at Main Street Coffee
DESCRIPTION:Join us at our monthly networking groups. Pick one\, or all and bring a colleague. Let's connect and share best practices and referrals!
X-ALT-DESC;FMTTYPE=text/html:Join us at our monthly networking groups. Pick one\, or all and bring a colleague. Let&#39\;s connect and share best practices and referrals!
LOCATION:Main Street Coffee Co. 10321 Main St Richmond\, IL 60071
UID:e.2066.454
SEQUENCE:3
DTSTAMP:20260425T221916Z
URL:https://dev.chainolakeschamber.com/events/details/networking-at-main-street-coffee-06-27-2018-454
END:VEVENT

END:VCALENDAR
