BEGIN:VCALENDAR
VERSION:2.0
PRODID:-//ChamberMaster//Event Calendar 2.0//EN
METHOD:PUBLISH
X-PUBLISHED-TTL:P3D
REFRESH-INTERVAL:P3D
CALSCALE:GREGORIAN
BEGIN:VEVENT
DTSTART:20221031T140000Z
DTEND:20221031T223000Z
X-MICROSOFT-CDO-ALLDAYEVENT:FALSE
SUMMARY:Nature's Feed Trick or Treat!
DESCRIPTION:Trick-or-Treat at Nature's Feed - treats for both 4-legged Ghouls and 2-legged Goblins!\n\n\n\nCostumes encouraged\, but not required to receive your treat.
X-ALT-DESC;FMTTYPE=text/html:Trick-or-Treat at Nature&#39\;s Feed - treats for both 4-legged Ghouls and 2-legged Goblins!<br />\n<br />\nCostumes encouraged\, but not required to receive your treat.&nbsp\;&nbsp\;&nbsp\;&nbsp\;&nbsp\;&nbsp\;&nbsp\;&nbsp\;
LOCATION:2440 Westward Dr. Spring Grove\, IL 60081
UID:e.2066.4867
SEQUENCE:3
DTSTAMP:20260422T120750Z
URL:https://dev.chainolakeschamber.com/events/details/nature-s-feed-trick-or-treat-4867
END:VEVENT

END:VCALENDAR
