BEGIN:VCALENDAR
VERSION:2.0
PRODID:-//ChamberMaster//Event Calendar 2.0//EN
METHOD:PUBLISH
X-PUBLISHED-TTL:P3D
REFRESH-INTERVAL:P3D
CALSCALE:GREGORIAN
BEGIN:VEVENT
DTSTART:20230211T170000Z
DTEND:20230211T200000Z
X-MICROSOFT-CDO-ALLDAYEVENT:FALSE
SUMMARY:Nature's Feed Smooch A Pooch
DESCRIPTION:Stop in at Natures Feed on February 11th from 11:00 a.m. to 2:00 p.m. for their Valentine's Day themed charity event benefiting L.E.A.R.N. (Labrador Education and Rescue Network). Receive a FREE Valentine's Day goody bag sponsored by Weruva & Primal Pet Foods with donation - limit 1 bag per household\, please. Don't miss the 'Kissing Booth' photo op - bring in your pooch(es) and take a festive Valentine's Day photo!
X-ALT-DESC;FMTTYPE=text/html:<span style="border: 0px\; font-variant-numeric: inherit\; font-variant-east-asian: inherit\; font-stretch: inherit\; font-size: 12px\; line-height: inherit\; font-family: Arial\, Verdana\, Helvetica\, sans-serif\; margin: 0px\; padding: 0px\; vertical-align: baseline\; color: rgb(77\, 77\, 77)\;">Stop in at&nbsp\;</span><a data-auth="NotApplicable" data-linkindex="3" data-safelink="true" href="https://r20.rs6.net/tn.jsp?f=001oWWv6Q1mrvGxrOJrdYqXi4GxvQqeQ4E7ulRtYRxz55TtOEhr8f8nQWJm_ckt51UGtcYcKgzUd0lN8RIc_nDZdV3FB4d7kodYKs-vOnfa5w_d9jZxPjIq_JDg4lrFiLF71zeO-Av3vo_-x1MCruXEmQ==&amp\;c=RZlB19HOYY42VuWJt_nrVX1qMHrwaSg8BW3YBfJ-2JnaDp0IxbmpJw==&amp\;ch=jEPI3iC0EncByT1JDvf2VhnfeRGHA9y8KO7riF3R-pRtziQocmmKeg==" rel="noopener noreferrer" style="border: 0px\; font-variant-numeric: inherit\; font-variant-east-asian: inherit\; font-stretch: inherit\; font-size: 12px\; line-height: inherit\; font-family: Arial\, Verdana\, Helvetica\, sans-serif\; margin: 0px\; padding: 0px\; vertical-align: baseline\; color: rgb(77\, 77\, 77)\;" target="_blank">Natures Feed</a><span style="border: 0px\; font-variant-numeric: inherit\; font-variant-east-asian: inherit\; font-stretch: inherit\; font-size: 12px\; line-height: inherit\; font-family: Arial\, Verdana\, Helvetica\, sans-serif\; margin: 0px\; padding: 0px\; vertical-align: baseline\; color: rgb(77\, 77\, 77)\;">&nbsp\;on February 11th from 11:00 a.m. to 2:00 p.m. for their Valentine&#39\;s Day themed charity event benefiting&nbsp\;</span><a data-auth="NotApplicable" data-linkindex="4" data-safelink="true" href="https://r20.rs6.net/tn.jsp?f=001oWWv6Q1mrvGxrOJrdYqXi4GxvQqeQ4E7ulRtYRxz55TtOEhr8f8nQXGkUVg8E0kwO7a1Hk5480jFxEPlmqRfsiS03p0TWUSXi8iT97OUCzyno_OACi4JbF0F31bdLHU3bLmCinYvDGXaTgpgkJHsDQ==&amp\;c=RZlB19HOYY42VuWJt_nrVX1qMHrwaSg8BW3YBfJ-2JnaDp0IxbmpJw==&amp\;ch=jEPI3iC0EncByT1JDvf2VhnfeRGHA9y8KO7riF3R-pRtziQocmmKeg==" rel="noopener noreferrer" style="border: 0px\; font-variant-numeric: inherit\; font-variant-east-asian: inherit\; font-stretch: inherit\; font-size: 12px\; line-height: inherit\; font-family: Arial\, Verdana\, Helvetica\, sans-serif\; margin: 0px\; padding: 0px\; vertical-align: baseline\; color: rgb(77\, 77\, 77)\;" target="_blank">L.E.A.R.N.</a><span style="border: 0px\; font-variant-numeric: inherit\; font-variant-east-asian: inherit\; font-stretch: inherit\; font-size: 12px\; line-height: inherit\; font-family: Arial\, Verdana\, Helvetica\, sans-serif\; margin: 0px\; padding: 0px\; vertical-align: baseline\; color: rgb(77\, 77\, 77)\;">&nbsp\;(Labrador Education and Rescue Network). Receive a&nbsp\;</span><span style="border: 0px\; font-style: italic\; font-variant-numeric: inherit\; font-variant-east-asian: inherit\; font-weight: bold\; font-stretch: inherit\; font-size: 12px\; line-height: inherit\; font-family: Arial\, Verdana\, Helvetica\, sans-serif\; margin: 0px\; padding: 0px\; vertical-align: baseline\; color: rgb(77\, 77\, 77)\;">FREE</span><span style="border: 0px\; font-variant-numeric: inherit\; font-variant-east-asian: inherit\; font-stretch: inherit\; font-size: 12px\; line-height: inherit\; font-family: Arial\, Verdana\, Helvetica\, sans-serif\; margin: 0px\; padding: 0px\; vertical-align: baseline\; color: rgb(77\, 77\, 77)\;">&nbsp\;Valentine&#39\;s Day goody bag sponsored by Weruva &amp\; Primal Pet Foods with donation - limit 1 bag per household\, please. Don&#39\;t miss the &#39\;Kissing Booth&#39\; photo op - bring in your pooch(es) and take a festive Valentine&#39\;s Day photo!</span>
LOCATION:Nature's Feed 2440 Westward Dr Spring Grove IL 60081
UID:e.2066.4973
SEQUENCE:3
DTSTAMP:20260419T223021Z
URL:https://dev.chainolakeschamber.com/events/details/nature-s-feed-smooch-a-pooch-4973
END:VEVENT

END:VCALENDAR
