BEGIN:VCALENDAR
VERSION:2.0
PRODID:-//ChamberMaster//Event Calendar 2.0//EN
METHOD:PUBLISH
X-PUBLISHED-TTL:P3D
REFRESH-INTERVAL:P3D
CALSCALE:GREGORIAN
BEGIN:VEVENT
DTSTART:20230415T160000Z
DTEND:20230415T190000Z
X-MICROSOFT-CDO-ALLDAYEVENT:FALSE
SUMMARY:Nature's Feed Pet Nail Clipping
DESCRIPTION:Bring your furry friends in for a pet nail clipping at Nature's Feed! Donations benefit Purrfect Cat Rescue. Nail clippings provided by Fur the Love of Dogs. See you there!!
X-ALT-DESC;FMTTYPE=text/html:<span style="color: rgb(0\, 0\, 0)\; font-family: Calibri\, Arial\, Helvetica\, sans-serif\, serif\, EmojiFont\; font-size: 16px\;">Bring your furry friends in for a pet nail clipping at Nature&#39\;s Feed! Donations benefit Purrfect Cat Rescue. Nail clippings provided by Fur the Love of Dogs. See you there!!</span>
LOCATION:Nature's Feed 2440 Westward Drive Unit C Spring Grove\, IL 60081
UID:e.2066.5071
SEQUENCE:3
DTSTAMP:20260419T190000Z
URL:https://dev.chainolakeschamber.com/events/details/nature-s-feed-pet-nail-clipping-5071
END:VEVENT

END:VCALENDAR
