BEGIN:VCALENDAR
VERSION:2.0
PRODID:-//ChamberMaster//Event Calendar 2.0//EN
METHOD:PUBLISH
X-PUBLISHED-TTL:P3D
REFRESH-INTERVAL:P3D
CALSCALE:GREGORIAN
BEGIN:VEVENT
DTSTART:20230506T160000Z
DTEND:20230506T190000Z
X-MICROSOFT-CDO-ALLDAYEVENT:FALSE
SUMMARY:Nature's Feed - Open Farm In-Store Demo
DESCRIPTION:Grab a free sample of Open Farm pet food\, learn about their new product called RawMix\, and save up to $20.00 on Open Farm dry pet food during the month of May! Restrictions & limits may apply.
X-ALT-DESC;FMTTYPE=text/html:<span style="color: rgb(0\, 0\, 0)\; font-family: Calibri\, Arial\, Helvetica\, sans-serif\, serif\, EmojiFont\; font-size: 16px\;">Grab a free sample of Open Farm pet food\, learn about their new product called RawMix\, and save up to $20.00 on Open Farm dry pet food during the month of May! Restrictions &amp\; limits may apply.</span>
LOCATION:Nature's Feed 2440 Westward Drive Unit C Spring Grove\, IL 60081
UID:e.2066.5102
SEQUENCE:3
DTSTAMP:20260419T171745Z
URL:https://dev.chainolakeschamber.com/events/details/nature-s-feed-open-farm-in-store-demo-5102
END:VEVENT

END:VCALENDAR
