BEGIN:VCALENDAR
VERSION:2.0
PRODID:-//ChamberMaster//Event Calendar 2.0//EN
METHOD:PUBLISH
X-PUBLISHED-TTL:P3D
REFRESH-INTERVAL:P3D
CALSCALE:GREGORIAN
BEGIN:VEVENT
DTSTART:20230408T160000Z
DTEND:20230408T190000Z
X-MICROSOFT-CDO-ALLDAYEVENT:FALSE
SUMMARY:Nature's Feed Egg Hunt
DESCRIPTION:Easter Egg Hunt | April 8\, 2023 | 11am - 2pm\n\nHop on over with your dog to Nature's Feed for our annual Easter Egg Hunt. Every egg includes a freeze dried treat AND a prize! One lucky winner will even find a $50.00 to Nature's Feed. See you there!! Other restrictions may apply.
X-ALT-DESC;FMTTYPE=text/html:<div style="border: 0px\; font-variant-numeric: inherit\; font-variant-east-asian: inherit\; font-variant-alternates: inherit\; font-stretch: inherit\; font-size: 12pt\; line-height: inherit\; font-family: Calibri\, Arial\, Helvetica\, sans-serif\; font-optical-sizing: inherit\; font-kerning: inherit\; font-feature-settings: inherit\; font-variation-settings: inherit\; margin: 0px\; padding: 0px\; vertical-align: baseline\; color: black\;"><span style="border: 0px\; font: inherit\; margin: 0px\; padding: 0px\; vertical-align: baseline\; color: inherit\;"><span style="border: 0px\; font-style: inherit\; font-variant: inherit\; font-weight: inherit\; font-stretch: inherit\; font-size: inherit\; line-height: inherit\; font-family: Calibri\, Arial\, Helvetica\, sans-serif\, serif\, EmojiFont\; font-optical-sizing: inherit\; font-kerning: inherit\; font-feature-settings: inherit\; font-variation-settings: inherit\; margin: 0px\; padding: 0px\; vertical-align: baseline\; color: inherit\;"><b style="color: rgb(32\, 31\, 30)\; font-size: 14.67px\; font-family: Calibri\, sans-serif\;"><u><span style="border: 0px\; font-style: inherit\; font-variant: inherit\; font-weight: inherit\; font-stretch: inherit\; font-size: 16pt\; line-height: inherit\; font-family: inherit\; font-optical-sizing: inherit\; font-kerning: inherit\; font-feature-settings: inherit\; font-variation-settings: inherit\; margin: 0px\; padding: 0px\; vertical-align: baseline\; color: rgb(12\, 136\, 42)\;">Easter Egg Hunt&nbsp\;<span style="border: 0px\; font: inherit\; margin: 0px\; padding: 0px\; vertical-align: baseline\; color: inherit\;">|</span>&nbsp\;April 8\, 2023&nbsp\;<b style="color: rgb(32\, 31\, 30)\; font-size: 14.67px\;"><u><span style="border: 0px\; font-style: inherit\; font-variant: inherit\; font-weight: inherit\; font-stretch: inherit\; font-size: 16pt\; line-height: inherit\; font-family: inherit\; font-optical-sizing: inherit\; font-kerning: inherit\; font-feature-settings: inherit\; font-variation-settings: inherit\; margin: 0px\; padding: 0px\; vertical-align: baseline\; color: rgb(12\, 136\, 42)\;"><span style="border: 0px\; font: inherit\; margin: 0px\; padding: 0px\; vertical-align: baseline\; color: inherit\;">|</span>&nbsp\;</span></u></b>11am - 2pm</span></u></b></span></span></div>\n\n<div style="border: 0px\; font-variant-numeric: inherit\; font-variant-east-asian: inherit\; font-variant-alternates: inherit\; font-stretch: inherit\; font-size: 12pt\; line-height: inherit\; font-family: Calibri\, Arial\, Helvetica\, sans-serif\; font-optical-sizing: inherit\; font-kerning: inherit\; font-feature-settings: inherit\; font-variation-settings: inherit\; margin: 0px\; padding: 0px\; vertical-align: baseline\; color: black\;"><span style="border: 0px\; font: inherit\; margin: 0px\; padding: 0px\; vertical-align: baseline\; color: inherit\;"><span style="border: 0px\; font: inherit\; margin: 0px\; padding: 0px\; vertical-align: baseline\; color: inherit\;"><span style="border: 0px\; font-style: inherit\; font-variant: inherit\; font-weight: inherit\; font-stretch: inherit\; font-size: inherit\; line-height: inherit\; font-family: Calibri\, Arial\, Helvetica\, sans-serif\, serif\, EmojiFont\; font-optical-sizing: inherit\; font-kerning: inherit\; font-feature-settings: inherit\; font-variation-settings: inherit\; margin: 0px\; padding: 0px\; vertical-align: baseline\; color: inherit\;">Hop on over with your dog to Nature&#39\;s Feed for our annual Easter Egg Hunt. Every egg includes a freeze dried treat&nbsp\;<i><b>AND</b></i>&nbsp\;a prize! One lucky winner will even find a $50.00 to Nature&#39\;s Feed. See you there!! Other restrictions may apply.</span></span></span></div>\n
LOCATION:Nature's Feed 2440 Westward Drive Unit C Spring Grove\, IL 60081
UID:e.2066.5073
SEQUENCE:3
DTSTAMP:20260419T185832Z
URL:https://dev.chainolakeschamber.com/events/details/nature-s-feed-egg-hunt-5073
END:VEVENT

END:VCALENDAR
