BEGIN:VCALENDAR
VERSION:2.0
PRODID:-//ChamberMaster//Event Calendar 2.0//EN
METHOD:PUBLISH
X-PUBLISHED-TTL:P3D
REFRESH-INTERVAL:P3D
CALSCALE:GREGORIAN
BEGIN:VEVENT
DTSTART:20230729T160000Z
DTEND:20230729T190000Z
X-MICROSOFT-CDO-ALLDAYEVENT:FALSE
SUMMARY:Nature's Feed Annual Ice Cream Social
DESCRIPTION:Join us for our annual ice cream social! We'll have ice cream for you and your pup. There will also be pet nail clipping services and some pups will be available for adoption. All proceeds will benefit the shelters and rescues on-site.
X-ALT-DESC;FMTTYPE=text/html:<span style="color: rgb(5\, 5\, 5)\; font-family: &quot\;Segoe UI Historic&quot\;\, &quot\;Segoe UI&quot\;\, Helvetica\, Arial\, sans-serif\; font-size: 15px\;">Join us for our annual ice cream social! We&#39\;ll have ice cream for you and your pup. There will also be pet nail clipping services and some pups will be available for adoption. All proceeds will benefit the shelters and rescues on-site.&nbsp\;</span>
LOCATION:Nature's Feed 2440 Westward Dr. #C Spring Grove IL
UID:e.2066.5310
SEQUENCE:3
DTSTAMP:20260419T140213Z
URL:https://dev.chainolakeschamber.com/events/details/nature-s-feed-annual-ice-cream-social-5310
END:VEVENT

END:VCALENDAR
