BEGIN:VCALENDAR
VERSION:2.0
PRODID:-//ChamberMaster//Event Calendar 2.0//EN
METHOD:PUBLISH
X-PUBLISHED-TTL:P3D
REFRESH-INTERVAL:P3D
CALSCALE:GREGORIAN
BEGIN:VEVENT
DTSTART:20220709T160000Z
DTEND:20220709T180000Z
X-MICROSOFT-CDO-ALLDAYEVENT:FALSE
SUMMARY:Nature's Feed - Annual Charity Dog Wash Benefiting L.E.A.R.N.
DESCRIPTION:Annual Charity Dog Wash Benefiting L.E.A.R.N.
X-ALT-DESC;FMTTYPE=text/html:Annual Charity Dog Wash Benefiting L.E.A.R.N.
LOCATION:Nature's Feed\, 2440 Westward Dr.\, Spring Grove\, IL 60081
UID:e.2066.4538
SEQUENCE:3
DTSTAMP:20260422T155021Z
URL:https://dev.chainolakeschamber.com/events/details/nature-s-feed-annual-charity-dog-wash-benefiting-l-e-a-r-n-4538
END:VEVENT

END:VCALENDAR
