BEGIN:VCALENDAR
VERSION:2.0
PRODID:-//ChamberMaster//Event Calendar 2.0//EN
METHOD:PUBLISH
X-PUBLISHED-TTL:P3D
REFRESH-INTERVAL:P3D
CALSCALE:GREGORIAN
BEGIN:VEVENT
DTSTART:20230730T160000Z
DTEND:20230730T190000Z
X-MICROSOFT-CDO-ALLDAYEVENT:FALSE
SUMMARY:National Feed a Rescue Pet Event
DESCRIPTION:National Feed a Rescue Pet Event\n\nSponsored by:\n\nSerenity Jensen of RE/MAX Plaza\n\n\n\nFor more information\, call 847-293-1122
X-ALT-DESC;FMTTYPE=text/html:National Feed a Rescue Pet Event<br />\nSponsored by:<br />\nSerenity Jensen of RE/MAX Plaza<br />\n<br />\nFor more information\, call 847-293-1122
LOCATION:RE/MAX Plaza 1111 N. Old Rand Road Wauconda IL 60084
UID:e.2066.5307
SEQUENCE:3
DTSTAMP:20260419T153251Z
URL:https://dev.chainolakeschamber.com/events/details/national-feed-a-rescue-pet-event-5307
END:VEVENT

END:VCALENDAR
