BEGIN:VCALENDAR
VERSION:2.0
PRODID:-//ChamberMaster//Event Calendar 2.0//EN
METHOD:PUBLISH
X-PUBLISHED-TTL:P3D
REFRESH-INTERVAL:P3D
CALSCALE:GREGORIAN
BEGIN:VEVENT
DTSTART:20221021T223000Z
DTEND:20221022T023000Z
X-MICROSOFT-CDO-ALLDAYEVENT:FALSE
SUMMARY:Murder Mystery Dinner and Show - Bullets in the Bathtub
DESCRIPTION:Hosted by the Village of Fox Lake Park and Recreation Department:\n\n\n\nA Jest Murder Mystery Dinner Event\n\nExpect smiles\, shenanigans and maybe even a little dancing. Expect shy people to come out of their shells. Expect surprises\, shouts and jokes\, but most of all\, expect a lot of laughter. A Jest show is no ordinary murder mystery dinner theater. There are no spooky scenes\, no stage separating the show from the audience and we can guarantee that a bunch of overzealous actors will not be competing for your attention. Because when you hire Jest\, it's not about the mystery\, it's about making sure your people have a great time. We've been around for a long time. We hire professional entertainers and we're darn good at making sure everyone has a blast.\n\nWe will serve a buffet-style dinner between acts of the show. There will also be a cash bar available. Our performance this year will be done by Jest Murder Mystery Co. To read about the show\, follow this link: https://www.jestmurdermystery.com/themes/bullets-in-the-bathtub
X-ALT-DESC;FMTTYPE=text/html:<p style="margin: 0px\; padding: 0px\; box-sizing: border-box\; color: rgb(111\, 114\, 135)\; font-size: 16px\; line-height: 1.5rem\; font-family: &quot\;Neue Plak&quot\;\, -apple-system\, BlinkMacSystemFont\, Roboto\, &quot\;Helvetica Neue&quot\;\, Helvetica\, Tahoma\, Arial\, sans-serif\;">Hosted by the Village of Fox Lake Park and Recreation Department:<br />\n<br />\nA Jest Murder Mystery Dinner Event</p>\n\n<p style="margin: 0px\; padding: 10px 0px 0px\; box-sizing: border-box\; color: rgb(111\, 114\, 135)\; font-size: 16px\; line-height: 1.5rem\; font-family: &quot\;Neue Plak&quot\;\, -apple-system\, BlinkMacSystemFont\, Roboto\, &quot\;Helvetica Neue&quot\;\, Helvetica\, Tahoma\, Arial\, sans-serif\;">Expect smiles\, shenanigans and maybe even a little dancing. Expect shy people to come out of their shells. Expect surprises\, shouts and jokes\, but most of all\, expect a lot of laughter. A Jest show is no ordinary murder mystery dinner theater. There are no spooky scenes\, no stage separating the show from the audience and we can guarantee that a bunch of overzealous actors will not be competing for your attention. Because when you hire Jest\, it&rsquo\;s not about the mystery\, it&rsquo\;s about making sure your people have a great time. We&rsquo\;ve been around for a long time. We hire professional entertainers and we&rsquo\;re darn good at making sure everyone has a blast.</p>\n\n<p style="margin: 0px\; padding: 10px 0px 0px\; box-sizing: border-box\; color: rgb(111\, 114\, 135)\; font-size: 16px\; line-height: 1.5rem\; font-family: &quot\;Neue Plak&quot\;\, -apple-system\, BlinkMacSystemFont\, Roboto\, &quot\;Helvetica Neue&quot\;\, Helvetica\, Tahoma\, Arial\, sans-serif\;">We will serve a buffet-style dinner between acts of the show. There will also be a cash bar available. Our performance this year will be done by Jest Murder Mystery Co. To read about the show\, follow this link: https://www.jestmurdermystery.com/themes/bullets-in-the-bathtub</p>\n
LOCATION:Maravela's Banquet and Catering 4 Washington Street Fox Lake\, IL 60020
UID:e.2066.4638
SEQUENCE:3
DTSTAMP:20260422T105857Z
URL:https://dev.chainolakeschamber.com/events/details/murder-mystery-dinner-and-show-bullets-in-the-bathtub-4638
END:VEVENT

END:VCALENDAR
