BEGIN:VCALENDAR
VERSION:2.0
PRODID:-//ChamberMaster//Event Calendar 2.0//EN
METHOD:PUBLISH
X-PUBLISHED-TTL:P3D
REFRESH-INTERVAL:P3D
CALSCALE:GREGORIAN
BEGIN:VEVENT
DTSTART:20191107T140000Z
DTEND:20191107T180000Z
X-MICROSOFT-CDO-ALLDAYEVENT:FALSE
SUMMARY:Multi State-Multi Chamber Networking Event
DESCRIPTION:CHAMBER MEMBERS ONLY\n\n\n\nFox Lake Richmond Spring Grove Chamber is the ONLY Illinois chamber invited!
X-ALT-DESC;FMTTYPE=text/html:<span style="font-size:22px\;">CHAMBER MEMBERS ONLY<br />\n<br />\nFox Lake Richmond Spring Grove Chamber is the ONLY Illinois chamber invited!</span><br />\n<br />\n<br />\n&nbsp\;
LOCATION:Complete This Form Veterans Terrace
UID:e.2066.3141
SEQUENCE:3
DTSTAMP:20260424T203140Z
URL:https://dev.chainolakeschamber.com/events/details/multi-state-multi-chamber-networking-event-3141
END:VEVENT

END:VCALENDAR
