BEGIN:VCALENDAR
VERSION:2.0
PRODID:-//ChamberMaster//Event Calendar 2.0//EN
METHOD:PUBLISH
X-PUBLISHED-TTL:P3D
REFRESH-INTERVAL:P3D
CALSCALE:GREGORIAN
BEGIN:VEVENT
DTSTART:20181101T130000Z
DTEND:20181101T170000Z
X-MICROSOFT-CDO-ALLDAYEVENT:FALSE
SUMMARY:Multi State-Multi Chamber Networking Event
DESCRIPTION:CHAMBER MEMBERS ONLY\n\n\n\nRichmond Spring Grove Chamber is the ONLY Illinois chamber invited!
X-ALT-DESC;FMTTYPE=text/html:<span style="font-size:22px\;">CHAMBER MEMBERS ONLY<br />\n<br />\nRichmond Spring Grove Chamber is the ONLY Illinois chamber invited!</span><br />\n<br />\n<br />\n&nbsp\;
LOCATION:Evergreen Country Club N6246 US Highway 12 Elkhorn WI 53121
UID:e.2066.1197
SEQUENCE:3
DTSTAMP:20260425T152840Z
URL:https://dev.chainolakeschamber.com/events/details/multi-state-multi-chamber-networking-event-1197
END:VEVENT

END:VCALENDAR
