BEGIN:VCALENDAR
VERSION:2.0
PRODID:-//ChamberMaster//Event Calendar 2.0//EN
METHOD:PUBLISH
X-PUBLISHED-TTL:P3D
REFRESH-INTERVAL:P3D
CALSCALE:GREGORIAN
BEGIN:VEVENT
DTSTART:20230314T220000Z
DTEND:20230315T000000Z
X-MICROSOFT-CDO-ALLDAYEVENT:FALSE
SUMMARY:Multi-Chamber Ribbon Cutting & Mixer - Discover Medical Center
DESCRIPTION:Join us\, along with the McHenry Area Chamber of Commerce\, March 14th for a Multi-Chamber event as we celebrate Discover Medical Center's 3 year anniversary! They will be serving a delicious variety of appetizers and refreshments. This will be a ribbon cutting and chamber mixer all in one! You will have the opportunity to win an IV nutrient infusion (IV Drip)\, a fitness basket or a bottle of wine. Come and enjoy time with friends while you learn more about the services at Discover Medical Center!\n\n \n\nDiscover Medical Center is a multi-disciplinary medical practice serving the surrounding area with physical medicine\, regenerative therapies and wellness care. Their team of medical providers work together to deliver the care you need to reach your healthcare goals and get you out of pain without drugs or surgery. Discover Medical Center has advanced treatment options for knee & hip pain\, shoulder & elbow pain\, back & neck pain\, sciatica\, headaches\, migraines\, neuropathy\, weight loss and more!
X-ALT-DESC;FMTTYPE=text/html:<div id="x_v1_rc_sig" style="border: 0px\; font-variant-numeric: inherit\; font-variant-east-asian: inherit\; font-stretch: inherit\; font-size: 13.3333px\; line-height: inherit\; font-family: Tahoma\, Arial\, Helvetica\, sans-serif\; margin: 0px\; padding: 0px\; vertical-align: baseline\; color: rgb(36\, 36\, 36)\;">Join us\, along with the McHenry Area Chamber of Commerce\, March 14th for a Multi-Chamber event as we celebrate Discover Medical Center&#39\;s 3 year anniversary! They will be serving a delicious variety of appetizers and refreshments. This will be a ribbon cutting and chamber mixer all in one! You will have the opportunity to win an IV nutrient infusion (IV Drip)\, a fitness basket or a bottle of wine. Come and enjoy time with friends while you learn more about the services at Discover Medical Center!</div>\n\n<div aria-hidden="true" style="border: 0px\; font-variant-numeric: inherit\; font-variant-east-asian: inherit\; font-stretch: inherit\; font-size: 13.3333px\; line-height: inherit\; font-family: Tahoma\, Arial\, Helvetica\, sans-serif\; margin: 0px\; padding: 0px\; vertical-align: baseline\; color: rgb(36\, 36\, 36)\;">&nbsp\;</div>\n\n<div style="border: 0px\; font-variant-numeric: inherit\; font-variant-east-asian: inherit\; font-stretch: inherit\; font-size: 13.3333px\; line-height: inherit\; font-family: Tahoma\, Arial\, Helvetica\, sans-serif\; margin: 0px\; padding: 0px\; vertical-align: baseline\; color: rgb(36\, 36\, 36)\;">Discover Medical Center is a multi-disciplinary medical practice serving the surrounding area with physical medicine\, regenerative therapies and wellness care. Their team of medical providers work together to deliver the care you need to reach your healthcare goals and get you out of pain without drugs or surgery.&nbsp\;Discover Medical Center has advanced treatment options for knee &amp\; hip pain\, shoulder &amp\; elbow pain\, back &amp\; neck pain\, sciatica\, headaches\, migraines\, neuropathy\, weight loss and more!</div>\n
LOCATION:Discover Integrated Medical Center 2207 N. US Hwy 12 Suite E Spring Grove IL 60081
UID:e.2066.4971
SEQUENCE:3
DTSTAMP:20260419T203718Z
URL:https://dev.chainolakeschamber.com/events/details/multi-chamber-ribbon-cutting-mixer-discover-medical-center-4971
END:VEVENT

END:VCALENDAR
