BEGIN:VCALENDAR
VERSION:2.0
PRODID:-//ChamberMaster//Event Calendar 2.0//EN
METHOD:PUBLISH
X-PUBLISHED-TTL:P3D
REFRESH-INTERVAL:P3D
CALSCALE:GREGORIAN
BEGIN:VEVENT
DTSTART:20230811T160000Z
DTEND:20230811T170000Z
X-MICROSOFT-CDO-ALLDAYEVENT:FALSE
SUMMARY:Multi-Chamber Ribbon Cutting at Ace Handyman Services
DESCRIPTION:Join us and the McHenry\, Wauconda and Cary-Grove Chambers to celebrate new chamber business\, Ace Handyman Services. They will be catering in Subway sandwiches\, providing soft drinks\, coffee\, and water. A professional photographer will be on site for the event.\n\n\n\nThey will be offering multiple raffles for prizes such as\;  2-hr handyman package\, tools\, etc. Additionally\, will be setting up tables in our shop to have kid friendly crafts available.\n\n\n\nOur Ace Handyman Services location is a locally owned franchise providing industry-leading repair & remodeling for both residential and commercial properties.
X-ALT-DESC;FMTTYPE=text/html:<span style="color: rgb(34\, 34\, 34)\; font-family: Lato\; font-size: 20px\;">Join us and the McHenry\, Wauconda and Cary-Grove Chambers to celebrate new chamber business\, Ace Handyman Services. They will be catering in Subway sandwiches\, providing soft drinks\, coffee\, and water. A professional photographer will be on site for the event.</span><br style="box-sizing: border-box\; color: rgb(34\, 34\, 34)\; font-family: Lato\; font-size: 20px\;" />\n<br style="box-sizing: border-box\; color: rgb(34\, 34\, 34)\; font-family: Lato\; font-size: 20px\;" />\n<span style="color: rgb(34\, 34\, 34)\; font-family: Lato\; font-size: 20px\;">They will be offering multiple raffles for prizes such as\;&nbsp\; 2-hr handyman package\, tools\, etc. Additionally\, will be setting up tables in our shop to have kid friendly crafts available.</span><br style="box-sizing: border-box\; color: rgb(34\, 34\, 34)\; font-family: Lato\; font-size: 20px\;" />\n<br style="box-sizing: border-box\; color: rgb(34\, 34\, 34)\; font-family: Lato\; font-size: 20px\;" />\n<span style="color: rgb(34\, 34\, 34)\; font-family: Lato\; font-size: 20px\;">Our Ace Handyman Services location is a locally owned franchise providing industry-leading repair &amp\; remodeling for both residential and commercial properties.</span>
LOCATION:4155 W Orleans St. McHenry IL 60050
UID:e.2066.5365
SEQUENCE:3
DTSTAMP:20260419T121512Z
URL:https://dev.chainolakeschamber.com/events/details/multi-chamber-ribbon-cutting-at-ace-handyman-services-5365
END:VEVENT

END:VCALENDAR
