BEGIN:VCALENDAR
VERSION:2.0
PRODID:-//ChamberMaster//Event Calendar 2.0//EN
METHOD:PUBLISH
X-PUBLISHED-TTL:P3D
REFRESH-INTERVAL:P3D
CALSCALE:GREGORIAN
BEGIN:VEVENT
DTSTART:20220217T230000Z
DTEND:20220218T030000Z
X-MICROSOFT-CDO-ALLDAYEVENT:FALSE
SUMMARY:Multi-Chamber Mixer - Valentine Theme Richmond\, Illinois
DESCRIPTION:This Multi-Chamber Mixer is Valentine Themed\, however single business enthusiasts are welcome to attend!\n\n	We will highlight special announcements on news happening in our local business community.\n	Networking games to get everyone mixing and learning about area businesses.\n	Door-prizes \n	Complimentary Appetizers\n	Cash Bar\n\nBring business cards and flyers!\n\n\n\n\n\nLocation: Olive Black Martini Lounge\, Richmond (across from Pisano's)\n\nHosted by: The Gift Wrap Place 9706 N. Route 12 Richmond\, Illinois
X-ALT-DESC;FMTTYPE=text/html:<span style="color:#FF0000">This Multi-Chamber Mixer is Valentine Themed\, however single business enthusiasts are welcome to attend!</span>\n<ul>\n	<li>We will highlight special announcements on news happening in our local business community.</li>\n	<li>Networking games to get everyone mixing and learning about area businesses.</li>\n	<li>Door-prizes&nbsp\;</li>\n	<li>Complimentary Appetizers</li>\n	<li>Cash Bar</li>\n</ul>\nBring business cards and flyers!<br />\n<br />\n<br />\nLocation: Olive Black Martini Lounge\, Richmond (across from Pisano&#39\;s)<br />\nHosted by: The Gift Wrap Place 9706 N. Route 12 Richmond\, Illinois
LOCATION:Olive Black Martini Lounge 5607 Broadway Richmond\, IL. 60071
UID:e.2066.4189
SEQUENCE:3
DTSTAMP:20260423T002009Z
URL:https://dev.chainolakeschamber.com/events/details/multi-chamber-mixer-valentine-theme-richmond-illinois-4189
END:VEVENT

END:VCALENDAR
