BEGIN:VCALENDAR
VERSION:2.0
PRODID:-//ChamberMaster//Event Calendar 2.0//EN
METHOD:PUBLISH
X-PUBLISHED-TTL:P3D
REFRESH-INTERVAL:P3D
CALSCALE:GREGORIAN
BEGIN:VEVENT
DTSTART:20180724T210000Z
DTEND:20180724T233000Z
X-MICROSOFT-CDO-ALLDAYEVENT:FALSE
SUMMARY:Multi-Chamber Mixer - Private Event
DESCRIPTION:Fox Lake Area Chamber is hosting a\n\n\n\nMulti-Chamber Mixer Private Event\n\nTuesday\, July 24\, 2018\n\nTime:  4 to 6:30 pm\n\n\n\nHosted by:\n\nBlarney's Island
X-ALT-DESC;FMTTYPE=text/html:<strong><span style="font-family:comic sans ms\;"><span style="font-size:12.0pt\;">Fox Lake Area Chamber </span></span></strong><strong><span style="font-family:comic sans ms\;"><span style="font-size:12.0pt\;"><strong><span style="font-family:comic sans ms\;">is hosting a</span></strong></span><br />\n<br />\n<strong><span style="font-family:comic sans ms\;">Multi-Chamber Mixer Private Event</span></strong></span><br />\n<strong><span style="font-family:comic sans ms\;">Tuesday\, July 24\, 2018</span></strong><br />\n<strong><span style="font-family:comic sans ms\;">Time:&nbsp\; 4 to 6:30 pm</span></strong><br />\n<br />\n<strong><span style="font-family:comic sans ms\;">Hosted by:</span></strong><br />\n<strong><span style="font-family:comic sans ms\;"><span style="font-size:10.5pt\;">Blarney&#39\;s Island</span></span></strong></strong><br />\n<br />\n&nbsp\;
LOCATION:Mixer hosted by Blarney Island 27843 West Grass Lake Rd. Antioch\, IL Port of Blarney Shuttles will cost $5.00 per person for a round trip 2 shuttles out at 4:00 pm and 4:30 pm 2 shuttles out at 6:00 pm and 6:30 pm Appetizers included\, Cash Bar
UID:e.2066.1180
SEQUENCE:3
DTSTAMP:20260425T204034Z
URL:https://dev.chainolakeschamber.com/events/details/multi-chamber-mixer-private-event-1180
END:VEVENT

END:VCALENDAR
