BEGIN:VCALENDAR
VERSION:2.0
PRODID:-//ChamberMaster//Event Calendar 2.0//EN
METHOD:PUBLISH
X-PUBLISHED-TTL:P3D
REFRESH-INTERVAL:P3D
CALSCALE:GREGORIAN
BEGIN:VEVENT
DTSTART:20180206T230000Z
DTEND:20180207T010000Z
X-MICROSOFT-CDO-ALLDAYEVENT:FALSE
SUMMARY:Multi-Chamber Mixer: Cookies\, Craft Brew & Chambers
DESCRIPTION:Join us February 6th from 5-7pm at the United Way in McHenry and connect with other business owners at this multi chamber event. Interested in joining the Richmond Spring Grove Chamber? Come on out and be our guest\, just contact us at info@rsgchamber.com. See you there!
X-ALT-DESC;FMTTYPE=text/html:Join us February 6th from 5-7pm at the United Way in McHenry and connect with other business owners at this multi chamber event. Interested in joining the Richmond Spring Grove Chamber? Come on out and be our guest\, just contact us at <a href="mailto:info@rsgchamber.com?subject=Cookies%2C%20Craft%20Brew%20%26%20Chambers">info@rsgchamber.com</a>. See you there!
LOCATION:United Way McHenry 4508 Prime Parkway McHenry\, IL 60014
UID:e.2066.3
SEQUENCE:3
DTSTAMP:20260426T042841Z
URL:https://dev.chainolakeschamber.com/events/details/multi-chamber-mixer-cookies-craft-brew-chambers-3
END:VEVENT

END:VCALENDAR
