BEGIN:VCALENDAR
VERSION:2.0
PRODID:-//ChamberMaster//Event Calendar 2.0//EN
METHOD:PUBLISH
X-PUBLISHED-TTL:P3D
REFRESH-INTERVAL:P3D
CALSCALE:GREGORIAN
BEGIN:VEVENT
DTSTART:20191022T220000Z
DTEND:20191023T000000Z
X-MICROSOFT-CDO-ALLDAYEVENT:FALSE
SUMMARY:Multi Chamber Holiday Resource Mixer
DESCRIPTION:Looking for client or employee gifts?  Need someone to decorate the office?  Need a space to host your holiday party?  Just hoping to make it through the holidays?  Come to the Holiday Resource Mixer sponsored by Alpha Laser Engraving\, Metalwood Grille and Get In Shape Health.  Several Chamber member businesses will be there to offer advice and ideas.  Great appetizers\, a cash bar\, and networking!
X-ALT-DESC;FMTTYPE=text/html:Looking for client or employee gifts?&nbsp\; Need someone to decorate the office?&nbsp\; Need a space to host your holiday party?&nbsp\; Just hoping to make it through the holidays?&nbsp\; Come to the Holiday Resource Mixer sponsored by Alpha Laser Engraving\, Metalwood Grille and Get In Shape Health.&nbsp\; Several Chamber member businesses will be there to offer advice and ideas.&nbsp\; Great appetizers\, a cash bar\, and networking!
LOCATION:McHenry Country Club 820 N. John Street\, McHenry
UID:e.2066.3137
SEQUENCE:3
DTSTAMP:20260424T233409Z
URL:https://dev.chainolakeschamber.com/events/details/multi-chamber-holiday-resource-mixer-3137
END:VEVENT

END:VCALENDAR
