BEGIN:VCALENDAR
VERSION:2.0
PRODID:-//ChamberMaster//Event Calendar 2.0//EN
METHOD:PUBLISH
X-PUBLISHED-TTL:P3D
REFRESH-INTERVAL:P3D
CALSCALE:GREGORIAN
BEGIN:VEVENT
DTSTART:20210224T150000Z
DTEND:20210224T160000Z
X-MICROSOFT-CDO-ALLDAYEVENT:FALSE
SUMMARY:Multi-Chamber Digital Marketing Dive-in
DESCRIPTION:ATTENDING: Algonquin Lake in the Hills Chamber of Commerce   Bartlett Area Chamber of Commerce   Batavia Chamber of Commerce Bolingbrook Area Chamber of Commerce   Cary-Grove Area Chamber of Commerce   Crystal Lake Chamber of Commerce DeKalb Chamber of Commerce   Elgin Area Chamber   Fox Lake Richmond Spring Grove Area Chamber of Commerce Geneva Chamber of Commerce   Glen Ellyn Chamber of Commerce   Hampshire Area Chamber of Commerce   Heritage Corridor Business Alliance Huntley Area Chamber of Commerce   McHenry Area Chamber of Commerce   New Lenox Chamber of Commerce Northern Kane County Chamber of Commerce   Oswego Area Chamber of Commerce   Plainfield Area Chamber of Commerce St. Charles Chamber of Commerce   Westmont Chamber of Commerce and Tourism Bureau   Woodstock Area Chamber of Commerce & Industry
X-ALT-DESC;FMTTYPE=text/html:ATTENDING: Algonquin Lake in the Hills Chamber of Commerce &bull\; Bartlett Area Chamber of Commerce &bull\; Batavia Chamber of Commerce Bolingbrook Area Chamber of Commerce &bull\; Cary-Grove Area Chamber of Commerce &bull\; Crystal Lake Chamber of Commerce DeKalb Chamber of Commerce &bull\; Elgin Area Chamber &bull\; Fox Lake Richmond Spring Grove Area Chamber of Commerce Geneva Chamber of Commerce &bull\; Glen Ellyn Chamber of Commerce &bull\; Hampshire Area Chamber of Commerce &bull\; Heritage Corridor Business Alliance Huntley Area Chamber of Commerce &bull\; McHenry Area Chamber of Commerce &bull\; New Lenox Chamber of Commerce Northern Kane County Chamber of Commerce &bull\; Oswego Area Chamber of Commerce &bull\; Plainfield Area Chamber of Commerce St. Charles Chamber of Commerce &bull\; Westmont Chamber of Commerce and Tourism Bureau &bull\; Woodstock Area Chamber of Commerce &amp\; Industry<br />\n<br />\n<br />\n&nbsp\;
LOCATION:Join us via ZOOM on Wednesday\, February 24th at 9:00 AM and learn about the many digital services available when you partner with Shaw Media Marketing. In addition to our local community publications\, we offer a sophisticated line of digital products that will move your business to the forefront of targeted digital advertising technology. Digital marketing moves fast so should you! Register online now. To reserve your spot\,
UID:e.2066.3713
SEQUENCE:3
DTSTAMP:20260423T193354Z
URL:https://dev.chainolakeschamber.com/events/details/multi-chamber-digital-marketing-dive-in-3713
END:VEVENT

END:VCALENDAR
