BEGIN:VCALENDAR
VERSION:2.0
PRODID:-//ChamberMaster//Event Calendar 2.0//EN
METHOD:PUBLISH
X-PUBLISHED-TTL:P3D
REFRESH-INTERVAL:P3D
CALSCALE:GREGORIAN
BEGIN:VEVENT
DTSTART:20210509T150000Z
DTEND:20210509T213000Z
X-MICROSOFT-CDO-ALLDAYEVENT:FALSE
SUMMARY:Mother’s Day Brunch at Maravela’s
DESCRIPTION:Chef Carved Baked Ham\, Top Sirloin of Beef & Leg of Lamb Warm Entrees: Sliced Roast Turkey Breast\, Baked Chicken\, Sliced Roast Pork Loin & Tenderloin Beef Tips in Gravy\, Marinated Grilled Chicken\, Italian Sausage w/Green Peppers\, Onions & Mushrooms\, Polish Sausage w/Sauerkraut\, Stuffed Peppers\, Pastichio (Greek Lasagna) & MUCH MORE! Plus: Mashed Potatoes\, Confetti Rice\, Vegetables & Deluxe Salad Bar (Garden Salad\, Potato Salad\, Cole Slaw & Olive Salad)\, Cream of Chicken Rice Soup\, Dinner Rolls & Sliced Italian Bread. Breakfast Items Include: Eggs Benedict\, French Toast\, Mini Waffles\, Cheese Blintzes w/Blueberry & Cherry Toppings\, Scrambled Eggs\, American Fried Potatoes\, Sausage Gravy & Biscuits\, Corned Beef Hash\, Bacon\, Sausage\, Bagels\, Smoked Fish\, Lox\, Fresh Fruit\, PLUS an Exceptional Assortment of Homemade Sweets & Pastries. Complimentary Coffee\, Tea\, Soda & Juice Bar included Full Bar Available ~ All Alcohol is Extra
X-ALT-DESC;FMTTYPE=text/html:Chef Carved Baked Ham\, Top Sirloin of Beef &amp\; Leg of Lamb Warm Entrees: Sliced Roast Turkey Breast\, Baked Chicken\, Sliced Roast Pork Loin &amp\; Tenderloin Beef Tips in Gravy\, Marinated Grilled Chicken\, Italian Sausage w/Green Peppers\, Onions &amp\; Mushrooms\, Polish Sausage w/Sauerkraut\, Stuffed Peppers\, Pastichio (Greek Lasagna) &amp\; MUCH MORE! Plus: Mashed Potatoes\, Confetti Rice\, Vegetables &amp\; Deluxe Salad Bar (Garden Salad\, Potato Salad\, Cole Slaw &amp\; Olive Salad)\, Cream of Chicken Rice Soup\, Dinner Rolls &amp\; Sliced Italian Bread. Breakfast Items Include: Eggs Benedict\, French Toast\, Mini Waffles\, Cheese Blintzes w/Blueberry &amp\; Cherry Toppings\, Scrambled Eggs\, American Fried Potatoes\, Sausage Gravy &amp\; Biscuits\, Corned Beef Hash\, Bacon\, Sausage\, Bagels\, Smoked Fish\, Lox\, Fresh Fruit\, PLUS an Exceptional Assortment of Homemade Sweets &amp\; Pastries. Complimentary Coffee\, Tea\, Soda &amp\; Juice Bar included Full Bar Available ~ All Alcohol is Extra
LOCATION:Maravela's 4 Washington St\, Ingleside\, IL *Limited Capacity Tables set up 6 feet apart* All guests must wear a facemask at buffet & in common area
UID:e.2066.3940
SEQUENCE:3
DTSTAMP:20260423T145235Z
URL:https://dev.chainolakeschamber.com/events/details/mother-s-day-brunch-at-maravela-s-3940
END:VEVENT

END:VCALENDAR
