BEGIN:VCALENDAR
VERSION:2.0
PRODID:-//ChamberMaster//Event Calendar 2.0//EN
METHOD:PUBLISH
X-PUBLISHED-TTL:P3D
REFRESH-INTERVAL:P3D
CALSCALE:GREGORIAN
BEGIN:VEVENT
DTSTART:20180812T173000Z
DTEND:20180812T210000Z
X-MICROSOFT-CDO-ALLDAYEVENT:FALSE
SUMMARY:Monarch Family Fun
DESCRIPTION:Attendees will learn how they can help monarch butterflies and their miraculous migration across the North American continent. Activities include face painting\, art and science activities\, nature trunks\, information on planting butterfly gardens and an interactive monarch migration map. Prairie plants that provide nectar for butterflies will be available for purchase.\n\nIn addition\, local community bands will be performing from 12:30 to late afternoon pm at Main Beach Bandstand. \n\nSponsored by Friends of Hackmatack National Wildlife Refuge\, the U.S. Fish & Wildlife Service and the Crystal Lake Park District featuring activities from numerous conservation\, education and arts groups involved in the Hackmatack Monarch Coalition.
X-ALT-DESC;FMTTYPE=text/html:<span style="color:black\;"><span style="font-family:times new roman\,serif\;"><span style="font-size:12.0pt\;">Attendees will learn how they can help monarch butterflies and their miraculous migration across the North American continent. Activities include face painting\, art and science activities\, nature trunks\, information on planting butterfly gardens and an interactive monarch migration map. Prairie plants that provide nectar for butterflies will be available for purchase.</span></span></span><br />\n<span style="color:black\;"><span style="font-family:times new roman\,serif\;"><span style="font-size:12.0pt\;">In addition\, local community bands will be performing from 12:30 to late afternoon pm at Main Beach Bandstand. </span></span></span><br />\n<span style="color:black\;"><span style="font-family:times new roman\,serif\;"><span style="font-size:12.0pt\;">Sponsored by Friends of Hackmatack National Wildlife Refuge\, the U.S. Fish &amp\; Wildlife Service and the Crystal Lake Park District featuring activities from numerous conservation\, education and arts groups involved in the Hackmatack Monarch Coalition.</span></span></span><br />\n&nbsp\;<br />\n<br />\n&nbsp\;
LOCATION:Crystal Lake Main Beach Pavilion\, 300 Lake Shore Dr\, Crystal Lake\, Illinois.
UID:e.2066.1184
SEQUENCE:3
DTSTAMP:20260425T191854Z
URL:https://dev.chainolakeschamber.com/events/details/monarch-family-fun-1184
END:VEVENT

END:VCALENDAR
