BEGIN:VCALENDAR
VERSION:2.0
PRODID:-//ChamberMaster//Event Calendar 2.0//EN
METHOD:PUBLISH
X-PUBLISHED-TTL:P3D
REFRESH-INTERVAL:P3D
CALSCALE:GREGORIAN
BEGIN:VEVENT
DTSTART:20210501T150000Z
DTEND:20210501T190000Z
X-MICROSOFT-CDO-ALLDAYEVENT:FALSE
SUMMARY:Mommy and Me
DESCRIPTION:Join us for another Mommy and Me! \n\nBring your little one and let them create their own little flower arrangement for Mom! \n\nBefore they leave let the littles spin the discount wheel for a coupon to take home to Dad!
X-ALT-DESC;FMTTYPE=text/html:<span style="color:#000000"><span style="font-size:15px">Join us for another Mommy and Me!&nbsp\;</span><br />\n<span style="font-size:15px">Bring your little one and let them create their own little flower arrangement for Mom!&nbsp\;</span><br />\n<span style="font-size:15px">Before they leave let the littles spin the discount wheel for a coupon to take home to Dad!</span></span>
LOCATION:jh Events and Flowers 3603 Municipal Dr. McHenry\, IL 60050
UID:e.2066.3884
SEQUENCE:3
DTSTAMP:20260423T143135Z
URL:https://dev.chainolakeschamber.com/events/details/mommy-and-me-3884
END:VEVENT

END:VCALENDAR
