BEGIN:VCALENDAR
VERSION:2.0
PRODID:-//ChamberMaster//Event Calendar 2.0//EN
METHOD:PUBLISH
X-PUBLISHED-TTL:P3D
REFRESH-INTERVAL:P3D
CALSCALE:GREGORIAN
BEGIN:VEVENT
DTSTART:20230516T220000Z
DTEND:20230517T000000Z
X-MICROSOFT-CDO-ALLDAYEVENT:FALSE
SUMMARY:Mixer! Cypress Marine & Resort & Petite Lake Resort
DESCRIPTION:Join us to celebrate the Grand Opening of Cypress Resort & Marine with a fun-filled Mixer! We'll have tours of Cypress and Petite Lake Resort\, yard games\, food\, beverages\, and one lucky attendee will win a two-night stay at Cypress Resort!
X-ALT-DESC;FMTTYPE=text/html:Join us to celebrate the Grand Opening of Cypress Resort &amp\; Marine with a fun-filled Mixer! We&#39\;ll have tours of Cypress and Petite Lake Resort\, yard games\, food\, beverages\, and one lucky attendee will win a two-night stay at Cypress Resort!
LOCATION:Cypress Marine & Resort / Petite Lake Resort 25635 W Hermann Ave Antioch IL
UID:e.2066.5085
SEQUENCE:3
DTSTAMP:20260419T172915Z
URL:https://dev.chainolakeschamber.com/events/details/mixer-cypress-marine-resort-petite-lake-resort-5085
END:VEVENT

END:VCALENDAR
