BEGIN:VCALENDAR
VERSION:2.0
PRODID:-//ChamberMaster//Event Calendar 2.0//EN
METHOD:PUBLISH
X-PUBLISHED-TTL:P3D
REFRESH-INTERVAL:P3D
CALSCALE:GREGORIAN
BEGIN:VEVENT
DTSTART:20221006T220000Z
DTEND:20221007T000000Z
X-MICROSOFT-CDO-ALLDAYEVENT:FALSE
SUMMARY:Mixer at Trotter and Associates
DESCRIPTION:Come out  for a relaxing Meet & Greet with your local politicians before election day sitting on the patio overlooking Pistakee Lake.  Enjoy the hor dourves and drinks while you enjoy the view and meet new friends!
X-ALT-DESC;FMTTYPE=text/html:Come out&nbsp\; for a relaxing Meet &amp\; Greet with your local politicians before election day sitting on the patio overlooking Pistakee Lake.&nbsp\; Enjoy the hor dourves and drinks while you enjoy the view and meet new friends!
LOCATION:Trotter and Associates\, 38 W Grand Ave\, Fox Lake\, IL 60020
UID:e.2066.4566
SEQUENCE:3
DTSTAMP:20260422T105739Z
URL:https://dev.chainolakeschamber.com/events/details/mixer-at-trotter-and-associates-4566
END:VEVENT

END:VCALENDAR
