BEGIN:VCALENDAR
VERSION:2.0
PRODID:-//ChamberMaster//Event Calendar 2.0//EN
METHOD:PUBLISH
X-PUBLISHED-TTL:P3D
REFRESH-INTERVAL:P3D
CALSCALE:GREGORIAN
BEGIN:VEVENT
DTSTART:20220917T160000Z
DTEND:20220917T190000Z
X-MICROSOFT-CDO-ALLDAYEVENT:FALSE
SUMMARY:Mike More Miles Ribbon Cutting and Grand Opening
DESCRIPTION:Grand Opening and Ribbon Cutting Celebration
X-ALT-DESC;FMTTYPE=text/html:Grand Opening and Ribbon Cutting Celebration&nbsp\;&nbsp\;&nbsp\;&nbsp\;
LOCATION:1222 US-12\, Fox Lake\, IL 60020
UID:e.2066.4595
SEQUENCE:3
DTSTAMP:20260422T135659Z
URL:https://dev.chainolakeschamber.com/events/details/mike-more-miles-ribbon-cutting-and-grand-opening-4595
END:VEVENT

END:VCALENDAR
