BEGIN:VCALENDAR
VERSION:2.0
PRODID:-//ChamberMaster//Event Calendar 2.0//EN
METHOD:PUBLISH
X-PUBLISHED-TTL:P3D
REFRESH-INTERVAL:P3D
CALSCALE:GREGORIAN
BEGIN:VEVENT
DTSTART:20230715T140000Z
DTEND:20230715T210000Z
X-MICROSOFT-CDO-ALLDAYEVENT:FALSE
SUMMARY:Mercyhealth Open House and Expo
DESCRIPTION:Help us celebrate!\n\nMercyhealth Hospital and Physician Clinic\, Crystal Lake Opening!\n\n	Behind-the-scenes tours of the hospital and clinic 1 emergency response vehicle\, occupational health mobile clinic\, and mobile mammography truck\n	Visit the health and wellness expo and receive giveaways\n	List to live music by the Mercynaries\n	Win door prizes\n	Explore the Mercyhealth REACT helicopter\, MD\n\n\n\nDesigned with abundant natural light\, inviting surroundings\, and state-of-the-art technology\, we'll offer an extensive array of medical services\, including emergency care\, to make health care more convenient for you. This location also houses private inpatient suites\, an intensive care unit\, operating suites\, lab and imaging services\, and more!
X-ALT-DESC;FMTTYPE=text/html:Help us celebrate!<br />\nMercyhealth Hospital and Physician Clinic\, Crystal Lake Opening!\n<ul>\n	<li>Behind-the-scenes tours of the hospital and clinic 1 emergency response vehicle\, occupational health mobile clinic\, and mobile mammography truck</li>\n	<li>Visit the health and wellness expo and receive giveaways</li>\n	<li>List to live music by the Mercynaries</li>\n	<li>Win door prizes</li>\n	<li>Explore the Mercyhealth REACT helicopter\, MD</li>\n</ul>\n<br />\nDesigned with abundant natural light\, inviting surroundings\, and state-of-the-art technology\, we&#39\;ll offer an extensive array of medical services\, including emergency care\, to make health care more convenient for you. This location also houses private inpatient suites\, an intensive care unit\, operating suites\, lab and imaging services\, and more!
LOCATION:Mercyhealth Crystal Lake located at the intersection of Three Oaks Road and Route 31 Parking is available at the Raymond Road entrance and the Holiday Inn
UID:e.2066.5277
SEQUENCE:3
DTSTAMP:20260419T153541Z
URL:https://dev.chainolakeschamber.com/events/details/mercyhealth-open-house-and-expo-5277
END:VEVENT

END:VCALENDAR
