BEGIN:VCALENDAR
VERSION:2.0
PRODID:-//ChamberMaster//Event Calendar 2.0//EN
METHOD:PUBLISH
X-PUBLISHED-TTL:P3D
REFRESH-INTERVAL:P3D
CALSCALE:GREGORIAN
BEGIN:VEVENT
DTSTART:20221129T160000Z
DTEND:20221129T170000Z
X-MICROSOFT-CDO-ALLDAYEVENT:FALSE
SUMMARY:Memory Loss vs Dementia
DESCRIPTION:Presented by Chris Petrik\, RN\, BS\, Director of Education\,\n\n Dementia Reality Master Trainer\, Elderwerks Educational Services\n\n\n\nOften older adults worry about cognitive decline. During this program Chris will discuss what is normal versus non-normal in the aging process as it relates to cognition. Learn what one can do to enhance memory\, using tricks and tools\, and regularly exercising the brain\; and how nutrition can factor into to healthy aging and memory\, as well as other body functions as we age.
X-ALT-DESC;FMTTYPE=text/html:<span style="color:windowtext"><span style="font-family:segoe ui semibold\,sans-serif"><span style="font-size:16.0pt">Presented by </span></span></span><strong><span style="color:windowtext"><span style="font-family:segoe ui semibold\,sans-serif"><span style="font-size:16.0pt">Chris Petrik\, RN\, BS\, Director of Education\,</span></span></span></strong><br />\n<strong><span style="color:windowtext"><span style="font-family:segoe ui semibold\,sans-serif"><span style="font-size:16.0pt">&nbsp\;Dementia Reality Master Trainer\, Elderwerks Educational Services</span></span></span></strong><br />\n<br />\n<span style="font-family:arial narrow\,sans-serif"><span style="font-size:16.0pt">Often older adults worry about cognitive decline. During this program Chris will discuss what is normal versus non-normal in the aging process as it relates to cognition. Learn what one can do to enhance memory\, using tricks and tools\, and regularly exercising the brain\; and how nutrition can factor into to healthy aging and memory\, as well as other body functions as we age.</span></span>
LOCATION:Zoom
UID:e.2066.4654
SEQUENCE:3
DTSTAMP:20260422T090654Z
URL:https://dev.chainolakeschamber.com/events/details/memory-loss-vs-dementia-4654
END:VEVENT

END:VCALENDAR
