BEGIN:VCALENDAR
VERSION:2.0
PRODID:-//ChamberMaster//Event Calendar 2.0//EN
METHOD:PUBLISH
X-PUBLISHED-TTL:P3D
REFRESH-INTERVAL:P3D
CALSCALE:GREGORIAN
BEGIN:VEVENT
DTSTART:20230322T123000Z
DTEND:20230322T133000Z
X-MICROSOFT-CDO-ALLDAYEVENT:FALSE
SUMMARY:Membership Meeting - Spring Grove
DESCRIPTION:Membership Meeting\n\nGet the latest updates from the Village of Spring Grove and the Chain O'Lakes Area Chamber of Commerce. Meet new and existing members - it's a great opportunity for networking!
X-ALT-DESC;FMTTYPE=text/html:Membership Meeting<br />\nGet the latest updates from&nbsp\;the Village of Spring Grove and the Chain O&#39\;Lakes Area Chamber of Commerce. Meet new and existing members - it&#39\;s a great opportunity for networking!
LOCATION:Village of Spring Grove 7401 Meyer Road Spring Grove\, IL 60081
UID:e.2066.4903
SEQUENCE:3
DTSTAMP:20260419T203320Z
URL:https://dev.chainolakeschamber.com/events/details/membership-meeting-spring-grove-4903
END:VEVENT

END:VCALENDAR
