BEGIN:VCALENDAR
VERSION:2.0
PRODID:-//ChamberMaster//Event Calendar 2.0//EN
METHOD:PUBLISH
X-PUBLISHED-TTL:P3D
REFRESH-INTERVAL:P3D
CALSCALE:GREGORIAN
BEGIN:VEVENT
DTSTART:20230119T133000Z
DTEND:20230119T143000Z
X-MICROSOFT-CDO-ALLDAYEVENT:FALSE
SUMMARY:Membership Meeting - Richmond
DESCRIPTION:You asked for it - and it's here! Join us for the first bimonthly Chain O'Lakes Area Chamber of Commerce Membership Meeting!\n\nMeeting will rotate through the four villages\, starting with Richmond. Your hosting Village President or representative will provide updated information important to the businesses and community.\n\nThe Chain O'Lakes Area Chamber of Commerce will introduce new members and provide the latest information on new events and programs supporting the membership and communities.\n\nAdmission is free\, but please RSVP so that we can plan appropriately. Coffee and water will be served. This will be a brief but informative meeting ensuring that you stay up-to-date and to work on time.
X-ALT-DESC;FMTTYPE=text/html:<div class="x11i5rnm xat24cr x1mh8g0r x1vvkbs xdj266r" style="margin: 0px\; overflow-wrap: break-word\; font-family: &quot\;Segoe UI Historic&quot\;\, &quot\;Segoe UI&quot\;\, Helvetica\, Arial\, sans-serif\; color: rgb(5\, 5\, 5)\; font-size: 15px\;">You asked for it - and it&#39\;s here! Join us for the first bimonthly Chain O&#39\;Lakes Area Chamber of Commerce Membership Meeting!</div>\n\n<div class="x11i5rnm xat24cr x1mh8g0r x1vvkbs xtlvy1s" style="margin: 0.5em 0px 0px\; overflow-wrap: break-word\; font-family: &quot\;Segoe UI Historic&quot\;\, &quot\;Segoe UI&quot\;\, Helvetica\, Arial\, sans-serif\; color: rgb(5\, 5\, 5)\; font-size: 15px\;">Meeting will rotate through the four villages\, starting with Richmond. Your hosting Village President or representative will provide updated information important to the businesses and community.</div>\n\n<div class="x11i5rnm xat24cr x1mh8g0r x1vvkbs xtlvy1s" style="margin: 0.5em 0px 0px\; overflow-wrap: break-word\; font-family: &quot\;Segoe UI Historic&quot\;\, &quot\;Segoe UI&quot\;\, Helvetica\, Arial\, sans-serif\; color: rgb(5\, 5\, 5)\; font-size: 15px\;">The Chain O&#39\;Lakes Area Chamber of Commerce will introduce new members and provide the latest information on new events and programs supporting the membership and communities.</div>\n\n<div class="x11i5rnm xat24cr x1mh8g0r x1vvkbs xtlvy1s" style="margin: 0.5em 0px 0px\; overflow-wrap: break-word\; font-family: &quot\;Segoe UI Historic&quot\;\, &quot\;Segoe UI&quot\;\, Helvetica\, Arial\, sans-serif\; color: rgb(5\, 5\, 5)\; font-size: 15px\;">Admission is free\, but please RSVP so that we can plan appropriately. Coffee and water will be served. This will be a brief but informative meeting ensuring that you stay up-to-date and to work on time.</div>\n
LOCATION:Village of Richmond 5600 Hunter Drive Richmond\, IL 60071
UID:e.2066.4904
SEQUENCE:3
DTSTAMP:20260420T001843Z
URL:https://dev.chainolakeschamber.com/events/details/membership-meeting-richmond-4904
END:VEVENT

END:VCALENDAR
