BEGIN:VCALENDAR
VERSION:2.0
PRODID:-//ChamberMaster//Event Calendar 2.0//EN
METHOD:PUBLISH
X-PUBLISHED-TTL:P3D
REFRESH-INTERVAL:P3D
CALSCALE:GREGORIAN
BEGIN:VEVENT
DTSTART:20230719T130000Z
DTEND:20230719T140000Z
X-MICROSOFT-CDO-ALLDAYEVENT:FALSE
SUMMARY:Membership Meeting at Volo Village Hall
DESCRIPTION:Our next Membership Meeting will be at the Volo Village Hall!\n\nUpdate from Mayor Steve Henley\, Executive Director Therese Matthys and introductions by new members!
X-ALT-DESC;FMTTYPE=text/html:Our next Membership Meeting will be at the Volo Village Hall!<br />\nUpdate from Mayor Steve Henley\, Executive Director Therese Matthys and introductions by new members!
LOCATION:Volo Village Hall 500 S. Fish Lake Road Volo IL
UID:e.2066.5270
SEQUENCE:3
DTSTAMP:20260419T154334Z
URL:https://dev.chainolakeschamber.com/events/details/membership-meeting-at-volo-village-hall-5270
END:VEVENT

END:VCALENDAR
