BEGIN:VCALENDAR
VERSION:2.0
PRODID:-//ChamberMaster//Event Calendar 2.0//EN
METHOD:PUBLISH
X-PUBLISHED-TTL:P3D
REFRESH-INTERVAL:P3D
CALSCALE:GREGORIAN
BEGIN:VEVENT
DTSTART:20230617T010000Z
DTEND:20230617T030000Z
X-MICROSOFT-CDO-ALLDAYEVENT:FALSE
SUMMARY:MDR's Sip Sip Hooray Official Beer Release Party
DESCRIPTION:Finally! Our beer will flow like wine and the people will instinctively flock like the salmons of Capistrano! Sip Sip Hooray is going public baby and what place better to officially release\, than it's birthplace Crystal Lake Brewing! The great band Bourbon County plays from 5-7pm and Modern Day Romeos plays 8-10pm! This is going to be a good one!
X-ALT-DESC;FMTTYPE=text/html:<span style="color: rgb(5\, 5\, 5)\; font-family: &quot\;Segoe UI Historic&quot\;\, &quot\;Segoe UI&quot\;\, Helvetica\, Arial\, sans-serif\; font-size: 15px\;">Finally! Our beer will flow like wine and the people will instinctively flock like the salmons of Capistrano! Sip Sip Hooray is going public baby and what place better to officially release\, than it&#39\;s birthplace Crystal Lake Brewing! The great band Bourbon County plays from 5-7pm and Modern Day Romeos plays 8-10pm! This is going to be a good one!</span><span style="color: rgb(5\, 5\, 5)\; font-family: &quot\;Segoe UI Historic&quot\;\, &quot\;Segoe UI&quot\;\, Helvetica\, Arial\, sans-serif\; font-size: 15px\;">&nbsp\;</span>
LOCATION:Crystal Lake Brewing 150 N. Main Street Crystal Lake IL 60014
UID:e.2066.5233
SEQUENCE:3
DTSTAMP:20260419T155348Z
URL:https://dev.chainolakeschamber.com/events/details/mdr-s-sip-sip-hooray-official-beer-release-party-5233
END:VEVENT

END:VCALENDAR
