BEGIN:VCALENDAR
VERSION:2.0
PRODID:-//ChamberMaster//Event Calendar 2.0//EN
METHOD:PUBLISH
X-PUBLISHED-TTL:P3D
REFRESH-INTERVAL:P3D
CALSCALE:GREGORIAN
BEGIN:VEVENT
DTSTART:20190929T140000Z
DTEND:20190929T193000Z
X-MICROSOFT-CDO-ALLDAYEVENT:FALSE
SUMMARY:MD Auto Car & Bike Show
DESCRIPTION:Car and Bike show\n\n\n\nFood available from Bamboo Johnny's - Fresh of the boat\n\n\n\nMusic By Jimmy Jam
X-ALT-DESC;FMTTYPE=text/html:Car and Bike show<br />\n<br />\nFood available from Bamboo Johnny&#39\;s - Fresh of the boat<br />\n<br />\nMusic By Jimmy Jam
LOCATION:MD Auto Solutions (Rt 59 Ingleside)
UID:e.2066.3120
SEQUENCE:3
DTSTAMP:20260424T233436Z
URL:https://dev.chainolakeschamber.com/events/details/md-auto-car-bike-show-3120
END:VEVENT

END:VCALENDAR
