BEGIN:VCALENDAR
VERSION:2.0
PRODID:-//ChamberMaster//Event Calendar 2.0//EN
METHOD:PUBLISH
X-PUBLISHED-TTL:P3D
REFRESH-INTERVAL:P3D
CALSCALE:GREGORIAN
BEGIN:VEVENT
DTSTART:20210926T180000Z
DTEND:20210926T210000Z
X-MICROSOFT-CDO-ALLDAYEVENT:FALSE
SUMMARY:McHenry Riverwalk Summer Music Sundays - Jimmy Nick sponsored by MyDesignSpace\, Inc.
DESCRIPTION:MyDesignSpace\, Inc. is excited to sponsor Jimmy Nick for a FREE concert at Miller Point along the McHenry Riverwalk\n\nJimmy Nick is an old-fashioned\, guitar-slinging blues prodigy who spent his teenage years being schooled by legendary bluesmen in the famous Chicago clubs of Kingston Mines\, Rosa's Lounge\, and B.L.U.E.S. on Halsted.\n\nhttp://www.jimmynick.com/\n\nYoutube: https://www.youtube.com/c/jimmynickmusic/videos\n\n\nSummer Music Sundays are intended to enhance the McHenry Riverwalk Experience.\n\n\nGrab some lunch at one of the local downtown bars or restaurants\, bring your lawn chair\, and enjoy live music in a picnic setting along the scenic Fox River and Boone Creek.
X-ALT-DESC;FMTTYPE=text/html:<h1>MyDesignSpace\, Inc. is excited to sponsor Jimmy Nick for a FREE concert at Miller Point along the McHenry Riverwalk</h1>\n\n<p>Jimmy Nick is an old-fashioned\, guitar-slinging blues prodigy who spent his teenage years being schooled by legendary bluesmen in the famous Chicago clubs of Kingston Mines\, Rosa&rsquo\;s Lounge\, and B.L.U.E.S. on Halsted.</p>\n\n<p>http://www.jimmynick.com/<br />\nYoutube: https://www.youtube.com/c/jimmynickmusic/videos</p>\n\n<div>\n<p><strong>Summer Music Sundays are intended to enhance the McHenry Riverwalk Experience.</strong></p>\n</div>\n\n<p>Grab some lunch at one of the local downtown bars or restaurants\, bring your lawn chair\, and enjoy live music in a picnic setting along the scenic Fox River and Boone Creek.</p>\n
LOCATION:Miller Point at McHenry Riverwalk 1202 Riverside Drive 60050 McHenry\, IL 60050 US
UID:e.2066.4065
SEQUENCE:3
DTSTAMP:20260423T083751Z
URL:https://dev.chainolakeschamber.com/events/details/mchenry-riverwalk-summer-music-sundays-jimmy-nick-sponsored-by-mydesignspace-inc-4065
END:VEVENT

END:VCALENDAR
