BEGIN:VCALENDAR
VERSION:2.0
PRODID:-//ChamberMaster//Event Calendar 2.0//EN
METHOD:PUBLISH
X-PUBLISHED-TTL:P3D
REFRESH-INTERVAL:P3D
CALSCALE:GREGORIAN
BEGIN:VEVENT
DTSTART:20230808T203000Z
DTEND:20230808T230000Z
X-MICROSOFT-CDO-ALLDAYEVENT:FALSE
SUMMARY:McHenry County Summer Picnic
DESCRIPTION:As summer is in full swing\, it's time once again for our Annual MCEDC Barbecue\, a young tradition we all look forward to! There's nothing like great food\, cold drinks\, and good company to capture the essence of summer.\n\n\n\nPlease RSVP by July 31 to JSchober@MCEDC.com or 815-893-0895
X-ALT-DESC;FMTTYPE=text/html:<span style="color: rgb(34\, 34\, 34)\; font-family: Arial\, sans-serif\; font-size: 16px\; background-color: rgb(255\, 255\, 255)\;">As summer is in full swing\, it&#39\;s time once again for our Annual MCEDC Barbecue\, a young tradition we all look forward to! There&#39\;s nothing like great food\, cold drinks\, and good company to capture the essence of summer.</span><br />\n<br />\nPlease RSVP by July 31 to JSchober@MCEDC.com or 815-893-0895
LOCATION:Three Oaks Recreation Area Pavillion
UID:e.2066.5287
SEQUENCE:3
DTSTAMP:20260419T135110Z
URL:https://dev.chainolakeschamber.com/events/details/mchenry-county-summer-picnic-5287
END:VEVENT

END:VCALENDAR
