BEGIN:VCALENDAR
VERSION:2.0
PRODID:-//ChamberMaster//Event Calendar 2.0//EN
METHOD:PUBLISH
X-PUBLISHED-TTL:P3D
REFRESH-INTERVAL:P3D
CALSCALE:GREGORIAN
BEGIN:VEVENT
DTSTART:20230908T140000Z
DTEND:20230908T200000Z
X-MICROSOFT-CDO-ALLDAYEVENT:FALSE
SUMMARY:McHenry County Suicide Prevention & Mental Health Recovery Conference
DESCRIPTION:Go Upstream Together: A call for "Come Unity" in Driving Change.\n\nChelsea Laliberte Barnes will be the Keynote Speaker.\n\nRegistration is open now!\n\nFree CEU's / 8+ Breakout Sessions / Complimentary Lunch
X-ALT-DESC;FMTTYPE=text/html:Go Upstream Together: A call for &quot\;Come Unity&quot\; in Driving Change.<br />\nChelsea Laliberte Barnes will be the Keynote Speaker.<br />\nRegistration is open now!<br />\nFree CEU&#39\;s / 8+ Breakout Sessions / Complimentary Lunch
LOCATION:McHenry County College 8900 Northwest Hwy 14 Crystal Lake IL 60014
UID:e.2066.5403
SEQUENCE:3
DTSTAMP:20260419T155521Z
URL:https://dev.chainolakeschamber.com/events/details/mchenry-county-suicide-prevention-mental-health-recovery-conference-5403
END:VEVENT

END:VCALENDAR
