BEGIN:VCALENDAR
VERSION:2.0
PRODID:-//ChamberMaster//Event Calendar 2.0//EN
METHOD:PUBLISH
X-PUBLISHED-TTL:P3D
REFRESH-INTERVAL:P3D
CALSCALE:GREGORIAN
BEGIN:VEVENT
DTSTART:20230412T140000Z
DTEND:20230412T163000Z
X-MICROSOFT-CDO-ALLDAYEVENT:FALSE
SUMMARY:McHenry County Disability Job Fair
DESCRIPTION:Disability Job Fair - Space is limited to the first 20 employers registered. To be included in marketing promotions for the event\, please register by March 22\, 2023.
X-ALT-DESC;FMTTYPE=text/html:Disability Job Fair - Space is limited to the first 20 employers registered. To be included in marketing promotions for the event\, please register by March 22\, 2023.
LOCATION:McHenry County College SHAH Center 41i00 W. Shamrock Lane McHenry IL 60050
UID:e.2066.4988
SEQUENCE:3
DTSTAMP:20260419T185843Z
URL:https://dev.chainolakeschamber.com/events/details/mchenry-county-disability-job-fair-4988
END:VEVENT

END:VCALENDAR
