BEGIN:VCALENDAR
VERSION:2.0
PRODID:-//ChamberMaster//Event Calendar 2.0//EN
METHOD:PUBLISH
X-PUBLISHED-TTL:P3D
REFRESH-INTERVAL:P3D
CALSCALE:GREGORIAN
BEGIN:VEVENT
DTSTART:20230405T140000Z
DTEND:20230405T150000Z
X-MICROSOFT-CDO-ALLDAYEVENT:FALSE
SUMMARY:McHenry County Disability Employer Workshop
DESCRIPTION:Employer Workshop: Learn how workers with different abilities can be the answer to your workforce shortage.
X-ALT-DESC;FMTTYPE=text/html:Employer Workshop: Learn how workers with different abilities can be the answer to your workforce shortage.
LOCATION:Virtual Register at https://bit.ly/3K3fQHK
UID:e.2066.4987
SEQUENCE:3
DTSTAMP:20260419T185844Z
URL:https://dev.chainolakeschamber.com/events/details/mchenry-county-disability-employer-workshop-4987
END:VEVENT

END:VCALENDAR
