BEGIN:VCALENDAR
VERSION:2.0
PRODID:-//ChamberMaster//Event Calendar 2.0//EN
METHOD:PUBLISH
X-PUBLISHED-TTL:P3D
REFRESH-INTERVAL:P3D
CALSCALE:GREGORIAN
BEGIN:VEVENT
DTSTART:20230310T140000Z
DTEND:20230310T153000Z
X-MICROSOFT-CDO-ALLDAYEVENT:FALSE
SUMMARY:MCC Workforce Training - The Vanishing Workforce
DESCRIPTION:Companies are facing new\, extraordinary challenges in locating\, recruiting\, hiring\, and retaining a workforce to grow their businesses.\n\nWhat are those challenges and what can you do?\n\nPatrick Dolan\, local Business Coach and "Armchair" Economist\, brings a unique combination of professional career experiences to his passion for workforce economics. In this unique seminar\, we will uncover current trends and discuss strategies to align with the changes and challenges in the marketplace.\n\nJoin us!
X-ALT-DESC;FMTTYPE=text/html:<p align="center" class="x_MsoNormal" style="margin: 0in 0in 8pt\; line-height: 15.6933px\; font-size: 11pt\; font-family: Calibri\, sans-serif\; color: rgb(36\, 36\, 36)\; background-color: rgb(255\, 255\, 255)\; text-align: center\;"><span style="border: 0px\; font-style: inherit\; font-variant: inherit\; font-weight: inherit\; font-stretch: inherit\; font-size: inherit\; line-height: inherit\; font-family: Arial\, sans-serif\; margin: 0px\; padding: 0px\; vertical-align: baseline\; color: inherit\;">Companies are facing new\, extraordinary challenges in locating\, recruiting\, hiring\, and retaining a workforce to grow their businesses.</span></p>\n\n<p align="center" class="x_MsoNormal" style="margin: 0in 0in 8pt\; line-height: 15.6933px\; font-size: 11pt\; font-family: Calibri\, sans-serif\; color: rgb(36\, 36\, 36)\; background-color: rgb(255\, 255\, 255)\; text-align: center\;"><span style="border: 0px\; font-style: inherit\; font-variant: inherit\; font-weight: inherit\; font-stretch: inherit\; font-size: inherit\; line-height: inherit\; font-family: Arial\, sans-serif\; margin: 0px\; padding: 0px\; vertical-align: baseline\; color: inherit\;">What are those challenges and what can you do?</span></p>\n\n<p align="center" class="x_MsoNormal" style="margin: 0in 0in 8pt\; line-height: 15.6933px\; font-size: 11pt\; font-family: Calibri\, sans-serif\; color: rgb(36\, 36\, 36)\; background-color: rgb(255\, 255\, 255)\; text-align: center\;"><span style="border: 0px\; font-style: inherit\; font-variant: inherit\; font-weight: inherit\; font-stretch: inherit\; font-size: inherit\; line-height: inherit\; font-family: Arial\, sans-serif\; margin: 0px\; padding: 0px\; vertical-align: baseline\; color: inherit\;">Patrick Dolan\, local Business Coach and &quot\;Armchair&quot\; Economist\, brings a unique combination of professional career experiences to his passion for workforce economics. In this unique seminar\, we will uncover current trends and discuss strategies to align with the changes and challenges in the marketplace.</span></p>\n\n<p align="center" class="x_MsoNormal" style="margin: 0in 0in 8pt\; line-height: 15.6933px\; font-size: 11pt\; font-family: Calibri\, sans-serif\; color: rgb(36\, 36\, 36)\; background-color: rgb(255\, 255\, 255)\; text-align: center\;"><i><span style="border: 0px\; font-style: inherit\; font-variant: inherit\; font-weight: inherit\; font-stretch: inherit\; font-size: 13.5pt\; line-height: 19.26px\; font-family: Arial\, sans-serif\; margin: 0px\; padding: 0px\; vertical-align: baseline\; color: inherit\;">Join us!</span></i></p>\n
LOCATION:MCC Shah Center 4100 W. Shamrock Lane McHenry IL
UID:e.2066.5027
SEQUENCE:3
DTSTAMP:20260419T203235Z
URL:https://dev.chainolakeschamber.com/events/details/mcc-workforce-training-the-vanishing-workforce-5027
END:VEVENT

END:VCALENDAR
