BEGIN:VCALENDAR
VERSION:2.0
PRODID:-//ChamberMaster//Event Calendar 2.0//EN
METHOD:PUBLISH
X-PUBLISHED-TTL:P3D
REFRESH-INTERVAL:P3D
CALSCALE:GREGORIAN
BEGIN:VEVENT
DTSTART:20230726T223000Z
DTEND:20230727T000000Z
X-MICROSOFT-CDO-ALLDAYEVENT:FALSE
SUMMARY:MCC's Access and Disability Services Information Night
DESCRIPTION:Wondering what Access and Disability Services can assist you with? Do you know how to request the accommodations you need?\n\nNew students\, parents/support people of students starting at MCC this fall\, register now to attend an information session with Access and Disability Services.\n\nA panel of students will also be available to offer helpful input so you can hear from "those who know"!
X-ALT-DESC;FMTTYPE=text/html:<div class="xdj266r x11i5rnm xat24cr x1mh8g0r x1vvkbs" style="margin: 0px\; overflow-wrap: break-word\; font-family: &quot\;Segoe UI Historic&quot\;\, &quot\;Segoe UI&quot\;\, Helvetica\, Arial\, sans-serif\; color: rgb(5\, 5\, 5)\; font-size: 15px\;">Wondering what Access and Disability Services can assist you with? Do you know how to request the accommodations you need?<br />\nNew students\, parents/support people of students starting at MCC this fall\, register now to attend an information session with Access and Disability Services.</div>\n\n<div class="x11i5rnm xat24cr x1mh8g0r x1vvkbs xtlvy1s" style="margin: 0.5em 0px 0px\; overflow-wrap: break-word\; font-family: &quot\;Segoe UI Historic&quot\;\, &quot\;Segoe UI&quot\;\, Helvetica\, Arial\, sans-serif\; color: rgb(5\, 5\, 5)\; font-size: 15px\;">A panel of students will also be available to offer helpful input so you can hear from &ldquo\;those who know&rdquo\;!</div>\n
LOCATION:8900 US Highway 14 A211a Crystal Lake IL
UID:e.2066.5301
SEQUENCE:3
DTSTAMP:20260419T140044Z
URL:https://dev.chainolakeschamber.com/events/details/mcc-s-access-and-disability-services-information-night-5301
END:VEVENT

END:VCALENDAR
