BEGIN:VCALENDAR
VERSION:2.0
PRODID:-//ChamberMaster//Event Calendar 2.0//EN
METHOD:PUBLISH
X-PUBLISHED-TTL:P3D
REFRESH-INTERVAL:P3D
CALSCALE:GREGORIAN
BEGIN:VEVENT
DTSTART:20180925T220000Z
DTEND:20180926T000000Z
X-MICROSOFT-CDO-ALLDAYEVENT:FALSE
SUMMARY:MCC Multi Chamber Mixer
DESCRIPTION:Multi Chamber Mixer
X-ALT-DESC;FMTTYPE=text/html:Multi Chamber Mixer
LOCATION:McHenry County College 8900 Route 14 Crystal Lake IL
UID:e.2066.586
SEQUENCE:3
DTSTAMP:20260425T180626Z
URL:https://dev.chainolakeschamber.com/events/details/mcc-multi-chamber-mixer-586
END:VEVENT

END:VCALENDAR
