BEGIN:VCALENDAR
VERSION:2.0
PRODID:-//ChamberMaster//Event Calendar 2.0//EN
METHOD:PUBLISH
X-PUBLISHED-TTL:P3D
REFRESH-INTERVAL:P3D
CALSCALE:GREGORIAN
BEGIN:VEVENT
DTSTART:20230426T210000Z
DTEND:20230427T000000Z
X-MICROSOFT-CDO-ALLDAYEVENT:FALSE
SUMMARY:MCC Healthcare Industry Forum
DESCRIPTION:Save the Date MCC Healthcare Industry Forum\n\nPlease register in advance\n\nYour feedback is important to ensure that MCC will continue to align with the needs of our local healthcare industry. We look forward to coming together in April.
X-ALT-DESC;FMTTYPE=text/html:<p class="x_MsoNormal" style="margin: 0in 0in 8pt\; font-size: 11pt\; font-family: Calibri\, sans-serif\; line-height: 22.5pt\; color: rgb(36\, 36\, 36)\;"><b><span style="border: 0px\; font-style: inherit\; font-variant: inherit\; font-weight: inherit\; font-stretch: inherit\; font-size: 15pt\; line-height: inherit\; font-family: Arial\, sans-serif\; margin: 0px\; padding: 0px\; vertical-align: baseline\; color: black\;">Save the Date&ndash\;MCC Healthcare Industry Forum</span></b></p>\n\n<p class="x_MsoNormal" style="margin: 0in 0in 8pt\; font-size: 11pt\; font-family: Calibri\, sans-serif\; line-height: 22.5pt\; color: rgb(36\, 36\, 36)\;"><span style="border: 0px\; font-style: inherit\; font-variant: inherit\; font-weight: inherit\; font-stretch: inherit\; font-size: 15pt\; line-height: inherit\; font-family: Arial\, sans-serif\; margin: 0px\; padding: 0px\; vertical-align: baseline\; color: black\;"><a data-auth="NotApplicable" data-linkindex="1" data-safelink="true" href="https://forms.office.com/pages/responsepage.aspx?id=EDUDjE4opUGDZiLbCnXiug8lCzwUi_FDlc0lK6oJlIlUQkFFSTNMSko4NjhaR045SERaTzdOMTk0NiQlQCN0PWcu" rel="noopener noreferrer" style="border: 0px\; font: inherit\; margin: 0px\; padding: 0px\; vertical-align: baseline\; color: blue\;" target="_blank">Please register in advance</a></span></p>\n\n<p class="x_MsoNormal" style="margin: 0in 0in 8pt\; font-size: 11pt\; font-family: Calibri\, sans-serif\; line-height: 22.5pt\; color: rgb(36\, 36\, 36)\;"><span style="border: 0px\; font-style: inherit\; font-variant: inherit\; font-weight: inherit\; font-stretch: inherit\; font-size: 15pt\; line-height: inherit\; font-family: Arial\, sans-serif\; margin: 0px\; padding: 0px\; vertical-align: baseline\; color: black\;">Your feedback is important to ensure that MCC will continue to align with the needs of our local healthcare industry. We look forward to coming together in April.</span></p>\n
LOCATION:McHenry County College Luecht Auditorium\, Commons\, and Conference Center (Building A and B) 8900 US Hwy 14\, Crystal Lake
UID:e.2066.5011
SEQUENCE:3
DTSTAMP:20260419T185939Z
URL:https://dev.chainolakeschamber.com/events/details/mcc-healthcare-industry-forum-5011
END:VEVENT

END:VCALENDAR
