BEGIN:VCALENDAR
VERSION:2.0
PRODID:-//ChamberMaster//Event Calendar 2.0//EN
METHOD:PUBLISH
X-PUBLISHED-TTL:P3D
REFRESH-INTERVAL:P3D
CALSCALE:GREGORIAN
BEGIN:VEVENT
DTSTART:20190920T213000Z
DTEND:20190921T010000Z
X-MICROSOFT-CDO-ALLDAYEVENT:FALSE
SUMMARY:Mayor's Fish Fry
DESCRIPTION:Come for a delicious all you can eat fish dinner prepared by Mayor Donny Schmit.
X-ALT-DESC;FMTTYPE=text/html:<span style="color:black\;"><span style="font-family:times new roman\,serif\;"><span style="font-size:10.5pt\;">Come for a delicious all you can eat fish dinner prepared by Mayor Donny Schmit.</span></span></span>
LOCATION:Lakefront Park 71 Nippersink Fox Lake
UID:e.2066.3128
SEQUENCE:3
DTSTAMP:20260424T233355Z
URL:https://dev.chainolakeschamber.com/events/details/mayor-s-fish-fry-3128
END:VEVENT

END:VCALENDAR
